BEGIN:VCALENDAR
VERSION:2.0
PRODID:-//Balatonfüred Röplabda Akadémia - ECPv5.14.0.4//NONSGML v1.0//EN
CALSCALE:GREGORIAN
METHOD:PUBLISH
X-WR-CALNAME:Balatonfüred Röplabda Akadémia
X-ORIGINAL-URL:https://szbbra.hu
X-WR-CALDESC:Events for Balatonfüred Röplabda Akadémia
REFRESH-INTERVAL;VALUE=DURATION:PT1H
X-Robots-Tag:noindex
X-PUBLISHED-TTL:PT1H
BEGIN:VTIMEZONE
TZID:Europe/Paris
BEGIN:DAYLIGHT
TZOFFSETFROM:+0100
TZOFFSETTO:+0200
TZNAME:CEST
DTSTART:20180325T010000
END:DAYLIGHT
BEGIN:STANDARD
TZOFFSETFROM:+0200
TZOFFSETTO:+0100
TZNAME:CET
DTSTART:20181028T010000
END:STANDARD
BEGIN:DAYLIGHT
TZOFFSETFROM:+0100
TZOFFSETTO:+0200
TZNAME:CEST
DTSTART:20190331T010000
END:DAYLIGHT
BEGIN:STANDARD
TZOFFSETFROM:+0200
TZOFFSETTO:+0100
TZNAME:CET
DTSTART:20191027T010000
END:STANDARD
BEGIN:DAYLIGHT
TZOFFSETFROM:+0100
TZOFFSETTO:+0200
TZNAME:CEST
DTSTART:20200329T010000
END:DAYLIGHT
BEGIN:STANDARD
TZOFFSETFROM:+0200
TZOFFSETTO:+0100
TZNAME:CET
DTSTART:20201025T010000
END:STANDARD
BEGIN:DAYLIGHT
TZOFFSETFROM:+0100
TZOFFSETTO:+0200
TZNAME:CEST
DTSTART:20210328T010000
END:DAYLIGHT
BEGIN:STANDARD
TZOFFSETFROM:+0200
TZOFFSETTO:+0100
TZNAME:CET
DTSTART:20211031T010000
END:STANDARD
BEGIN:DAYLIGHT
TZOFFSETFROM:+0100
TZOFFSETTO:+0200
TZNAME:CEST
DTSTART:20220327T010000
END:DAYLIGHT
BEGIN:STANDARD
TZOFFSETFROM:+0200
TZOFFSETTO:+0100
TZNAME:CET
DTSTART:20221030T010000
END:STANDARD
BEGIN:DAYLIGHT
TZOFFSETFROM:+0100
TZOFFSETTO:+0200
TZNAME:CEST
DTSTART:20230326T010000
END:DAYLIGHT
BEGIN:STANDARD
TZOFFSETFROM:+0200
TZOFFSETTO:+0100
TZNAME:CET
DTSTART:20231029T010000
END:STANDARD
END:VTIMEZONE
BEGIN:VEVENT
DTSTART;VALUE=DATE:20180325
DTEND;VALUE=DATE:20180326
DTSTAMP:20260420T115406
CREATED:20180228T170307Z
LAST-MODIFIED:20180228T170307Z
UID:807-1521936000-1522022399@szbbra.hu
SUMMARY:OSB - Budapest
DESCRIPTION:A Szalayné Sebők Éva U17 Országos Serdülő Bajnokság helyosztója Budapesten kerül megrendezésre. \nSerdülő csapatunk ez évi szereplése ezzel zárul. \nHajrá Füred! Hajrá Szent Benedek!
URL:https://szbbra.hu/event/osb-budapest/
LOCATION:Budapest\, Győri út 13.\, Budapest\, Magyarország
CATEGORIES:U17
ATTACH;FMTTYPE=image/jpeg:https://szbbra.hu/wp-content/uploads/2018/02/amuz_3495.jpg
END:VEVENT
BEGIN:VEVENT
DTSTART;VALUE=DATE:20180519
DTEND;VALUE=DATE:20180520
DTSTAMP:20260420T115406
CREATED:20180525T091443Z
LAST-MODIFIED:20180525T091443Z
UID:1745-1526688000-1526774399@szbbra.hu
SUMMARY:Kispest Open UP Strandröplabda Budapest Bajnokság 2018.
DESCRIPTION:Vasvári Eszter a felnőtt csapat kerettagja nem csak a teremben\, hanem a homokon is szívesen játszik. Az eddigi években is szép sikereket mondhatott magáénak. \nEzen a hétvégén azonban új párral\, Nevena Skoriccal lép pályára. Jól ismerik egymást\, hiszen a Szent Benedek felnőtt keretének mindketten tagjai. \nSok sikert kívánunk nekik! Hajrá Szent Benedek!
URL:https://szbbra.hu/event/kispest-open-strandroplabda-budapest-bajnoksag-2018/
LOCATION:Budapest\, Győri út 13.\, Budapest\, Magyarország
CATEGORIES:Felnőtt
ATTACH;FMTTYPE=image/jpeg:https://szbbra.hu/wp-content/uploads/2018/02/amuz_7922.jpg
END:VEVENT
BEGIN:VEVENT
DTSTART;VALUE=DATE:20180525
DTEND;VALUE=DATE:20180526
DTSTAMP:20260420T115406
CREATED:20180525T090057Z
LAST-MODIFIED:20180525T090057Z
UID:1742-1527206400-1527292799@szbbra.hu
SUMMARY:Strandröplabda Diákolimpia
DESCRIPTION:Két felnőtt kerettagunk\, Zen Isabella és Nevena Skoric képviselik a Szent Benedek Gimnáziumot a Budapesten megrendezésre kerülő Diákolimpián. \nSzurkoljunk nekik\, hogy itt is sikeresek legyenek! \nHajrá Szent Benedek!
URL:https://szbbra.hu/event/strandroplabda-diakolimpia/
LOCATION:Budapest\, Győri út 13.\, Budapest\, Magyarország
CATEGORIES:Felnőtt
ATTACH;FMTTYPE=image/jpeg:https://szbbra.hu/wp-content/uploads/2018/05/kpkivgs.jpg
END:VEVENT
BEGIN:VEVENT
DTSTART;VALUE=DATE:20180602
DTEND;VALUE=DATE:20180603
DTSTAMP:20260420T115406
CREATED:20180604T105730Z
LAST-MODIFIED:20180604T105730Z
UID:1788-1527897600-1527983999@szbbra.hu
SUMMARY:Kispest Open Strandröplabda Bajnkoság
DESCRIPTION:Kispest Open Strandröplabda Bajnokság \nVasvári Eszter és Vasvári Zsófi részvételével! \nSzurkoljunk nekik!
URL:https://szbbra.hu/event/kispest-open-strandroplabda-bajnkosag/
LOCATION:Budapest\, Győri út 13.\, Budapest\, Magyarország
CATEGORIES:Felnőtt
ATTACH;FMTTYPE=image/jpeg:https://szbbra.hu/wp-content/uploads/2018/06/5296_1920x1080.jpg
END:VEVENT
BEGIN:VEVENT
DTSTART;TZID=Europe/Paris:20180919T170000
DTEND;TZID=Europe/Paris:20180919T190000
DTSTAMP:20260420T115406
CREATED:20180907T104119Z
LAST-MODIFIED:20180907T104119Z
UID:1881-1537376400-1537383600@szbbra.hu
SUMMARY:Felkészülési mérkőzés NB I
DESCRIPTION:TFSE – Szent Benedek-Balatonfüred RA
URL:https://szbbra.hu/event/felkeszulesi-merkozes-nb-3/
LOCATION:Budapest\, Győri út 13.\, Budapest\, Magyarország
CATEGORIES:Felnőtt
ATTACH;FMTTYPE=image/jpeg:https://szbbra.hu/wp-content/uploads/2018/04/muz_7484.jpg
END:VEVENT
BEGIN:VEVENT
DTSTART;TZID=Europe/Paris:20181110T190000
DTEND;TZID=Europe/Paris:20181110T210000
DTSTAMP:20260420T115406
CREATED:20181002T133537Z
LAST-MODIFIED:20181002T133537Z
UID:2055-1541876400-1541883600@szbbra.hu
SUMMARY:TFSE - SZBBRA
DESCRIPTION:Budapesten\, a TFSE otthonában lépünk pályára. Várjuk a fővárosi drukkereinket! \nHajrá Füred! Hajrá Szent Benedek!
URL:https://szbbra.hu/event/tfse-szbbra/
LOCATION:Budapest\, Győri út 13.\, Budapest\, Magyarország
CATEGORIES:Felnőtt
ATTACH;FMTTYPE=image/jpeg:https://szbbra.hu/wp-content/uploads/2018/10/muz_1354.jpg
END:VEVENT
BEGIN:VEVENT
DTSTART;TZID=Europe/Paris:20181125T170000
DTEND;TZID=Europe/Paris:20181125T170000
DTSTAMP:20260420T115406
CREATED:20181002T134224Z
LAST-MODIFIED:20181002T134224Z
UID:2062-1543165200-1543165200@szbbra.hu
SUMMARY:Palota VSN Kft. - SZBBRA
DESCRIPTION:A Palota elleni idegenbeli mérkőzés következik. \nHajrá Füred! Hajrá Szent Benedek!
URL:https://szbbra.hu/event/palota-vsn-kft-szbbra/
LOCATION:Budapest\, Győri út 13.\, Budapest\, Magyarország
CATEGORIES:Felnőtt
ATTACH;FMTTYPE=image/jpeg:https://szbbra.hu/wp-content/uploads/2018/10/muz_1226.jpg
END:VEVENT
BEGIN:VEVENT
DTSTART;TZID=Europe/Paris:20181208T170000
DTEND;TZID=Europe/Paris:20181208T190000
DTSTAMP:20260420T115406
CREATED:20181002T134749Z
LAST-MODIFIED:20181002T134749Z
UID:2066-1544288400-1544295600@szbbra.hu
SUMMARY:MTK Budapest - SZBBRA
DESCRIPTION:2018 utolsó idegenbeli mérkőzése. \nHajrá Füred! Hajrá Szent Benedek!
URL:https://szbbra.hu/event/mtk-budapest-szbbra/
LOCATION:Budapest\, Győri út 13.\, Budapest\, Magyarország
CATEGORIES:Felnőtt
ATTACH;FMTTYPE=image/jpeg:https://szbbra.hu/wp-content/uploads/2018/10/muz_0139.jpg
END:VEVENT
BEGIN:VEVENT
DTSTART;TZID=Europe/Paris:20190314T180000
DTEND;TZID=Europe/Paris:20190314T200000
DTSTAMP:20260420T115406
CREATED:20190313T203035Z
LAST-MODIFIED:20190313T203211Z
UID:2428-1552586400-1552593600@szbbra.hu
SUMMARY:MTK - SZBBRA
DESCRIPTION:A rájátszás első mérkőzésén az MTK otthonába látogatnak a lányok. \nHajrá Füred! Hajrá Szent Benedek!
URL:https://szbbra.hu/event/mtk-szbbra/
LOCATION:Budapest\, Győri út 13.\, Budapest\, Magyarország
CATEGORIES:Felnőtt
ATTACH;FMTTYPE=image/jpeg:https://szbbra.hu/wp-content/uploads/2018/12/47575155_2510517282298393_3563050885317656576_n.jpg
END:VEVENT
BEGIN:VEVENT
DTSTART;TZID=Europe/Paris:20190329T183000
DTEND;TZID=Europe/Paris:20190329T203000
DTSTAMP:20260420T115406
CREATED:20190313T204656Z
LAST-MODIFIED:20190313T204656Z
UID:2439-1553884200-1553891400@szbbra.hu
SUMMARY:Budaörsi DSE - SZBBRA
DESCRIPTION:A már jól ismert budaörsi csapat vendégeként utazunk idegenbe. \nHajrá Füred!
URL:https://szbbra.hu/event/budaorsi-dse-szbbra/
LOCATION:Budapest\, Győri út 13.\, Budapest\, Magyarország
CATEGORIES:Felnőtt
ATTACH;FMTTYPE=image/jpeg:https://szbbra.hu/wp-content/uploads/2018/11/muz_1852.jpg
END:VEVENT
BEGIN:VEVENT
DTSTART;TZID=Europe/Paris:20191123T170000
DTEND;TZID=Europe/Paris:20191123T190000
DTSTAMP:20260420T115406
CREATED:20191113T140227Z
LAST-MODIFIED:20191113T140227Z
UID:2485-1574528400-1574535600@szbbra.hu
SUMMARY:NB I: Palota VSN Kft. - SZBRA
DESCRIPTION:A Palota VSN Kft. otthonába látogatnak a lányok és reméljük 3 ponttal térnek haza! \nHajrá Füred! Hajrá Szent Benedek!
URL:https://szbbra.hu/event/nb-i-palota-vsn-kft-szbra/
LOCATION:Budapest\, Győri út 13.\, Budapest\, Magyarország
ATTACH;FMTTYPE=image/jpeg:https://szbbra.hu/wp-content/uploads/2019/11/muz_4767.jpg
END:VEVENT
BEGIN:VEVENT
DTSTART;TZID=Europe/Paris:20191215T180000
DTEND;TZID=Europe/Paris:20191215T200000
DTSTAMP:20260420T115406
CREATED:20191113T180107Z
LAST-MODIFIED:20191113T180107Z
UID:2512-1576432800-1576440000@szbbra.hu
SUMMARY:U21/NB II.: TFSE - SZBBRA
DESCRIPTION:Az NB I-es TFSE U21-es csapata fogadja lányainkat Budapesten. Reméljük győzelemmel térnek haza! \nHajrá Füred! Hajrá Szent Benedek!
URL:https://szbbra.hu/event/u21-nb-ii-tfse-szbbra/
LOCATION:Budapest\, Győri út 13.\, Budapest\, Magyarország
CATEGORIES:NB1
ATTACH;FMTTYPE=image/jpeg:https://szbbra.hu/wp-content/uploads/2019/11/muz_4993.jpg
END:VEVENT
BEGIN:VEVENT
DTSTART;TZID=Europe/Paris:20200125T180000
DTEND;TZID=Europe/Paris:20200125T200000
DTSTAMP:20260420T115406
CREATED:20191113T142413Z
LAST-MODIFIED:20191113T142413Z
UID:2500-1579975200-1579982400@szbbra.hu
SUMMARY:NB I.: TFSE - SZBRA
DESCRIPTION:Budapestre utazik a csapat\, ahol fontos összecsapásra kerül sor! Mindenképp győzni kell\, hiszen már csak egy forduló van a rájátszásig! \nHajrá Füred! Hajrá Szent Benedek!
URL:https://szbbra.hu/event/nb-i-tfse-szbra/
LOCATION:Budapest\, Győri út 13.\, Budapest\, Magyarország
CATEGORIES:Felnőtt
ATTACH;FMTTYPE=image/jpeg:https://szbbra.hu/wp-content/uploads/2019/11/muz_4767.jpg
END:VEVENT
BEGIN:VEVENT
DTSTART;VALUE=DATE:20221120
DTEND;VALUE=DATE:20221121
DTSTAMP:20260420T115407
CREATED:20221108T122632Z
LAST-MODIFIED:20221108T122632Z
UID:9707-1668902400-1668988799@szbbra.hu
SUMMARY:Szalayné Sebők Éva U17 OSB II. o. NY 4. forduló
DESCRIPTION:2022. november 20. -án\, vasárnap U17 Kék csapatunk az alapszakasz 4. fordulójában a Közgáz illetve az Emericus U17-es korosztályával csapnak össze Budapesten. \n12:00 Közgáz U17 ‘A’ – SZBRA Kék \n14:00 SZBRA Kék- Emericus ‘A’ \nHelyszín: BUDAI CISZTERCI SZENT IMRE GIMNÁZIUM  (Budapest\, Villányi út 27.) \nHajrá Füred!
URL:https://szbbra.hu/event/szalayne-sebok-eva-u17-osb-ii-o-ny-4-fordulo/
LOCATION:Budapest\, Győri út 13.\, Budapest\, Magyarország
CATEGORIES:U17
ATTACH;FMTTYPE=image/jpeg:https://szbbra.hu/wp-content/uploads/2022/11/u17kek.jpg
END:VEVENT
BEGIN:VEVENT
DTSTART;TZID=Europe/Paris:20230225T080000
DTEND;TZID=Europe/Paris:20230225T170000
DTSTAMP:20260420T115407
CREATED:20230124T094203Z
LAST-MODIFIED:20230124T094207Z
UID:11542-1677312000-1677344400@szbbra.hu
SUMMARY:Leány U20 II. osztály 9. forduló
DESCRIPTION:2023. február 25. -én\, szombaton U20 Kék csapatunk a középszakasz 9. fordulójában a Érd illetve a BVSC U20-as korosztályával csapnak össze\, Zuglóban. \n13:00 DELTA Röplabda SE – SZBRA Kék \n15:00 BVSC-Zugló – SZBRA Kék \nHelyszín: BVSC-Zugló Röplabda Csarnok (Budapest\, Szőnyi út 2.) \nHajrá Füred!
URL:https://szbbra.hu/event/leany-u20-ii-osztaly-9-fordulo/
LOCATION:Budapest\, Győri út 13.\, Budapest\, Magyarország
CATEGORIES:U20
ATTACH;FMTTYPE=image/jpeg:https://szbbra.hu/wp-content/uploads/2022/12/u20-kek.jpg
END:VEVENT
BEGIN:VEVENT
DTSTART;TZID=Europe/Paris:20230304T160000
DTEND;TZID=Europe/Paris:20230304T180000
DTSTAMP:20260420T115407
CREATED:20220928T120859Z
LAST-MODIFIED:20220928T121846Z
UID:8245-1677945600-1677952800@szbbra.hu
SUMMARY:NB1 TFSE vs SZBRA
DESCRIPTION:2023. március 4. – én\, szombaton 16 órától a felnőtt női NB1 játékosai a tizenhatodik fordulóban a Jászberény ellen lépnek pályára\, idegenben. \nHelyszín: Magyar Testnevelési Egyetem “D” terem (Budapest\, Győri út 13.) \nHajrá Füred!
URL:https://szbbra.hu/event/nb1-tfse-vs-szbra/
LOCATION:Budapest\, Győri út 13.\, Budapest\, Magyarország
CATEGORIES:NB1
ATTACH;FMTTYPE=image/jpeg:https://szbbra.hu/wp-content/uploads/2022/08/279457172_423609406432010_378245842736825236_n.jpg
END:VEVENT
BEGIN:VEVENT
DTSTART;TZID=Europe/Paris:20230422T180000
DTEND;TZID=Europe/Paris:20230422T200000
DTSTAMP:20260420T115407
CREATED:20220928T123734Z
LAST-MODIFIED:20220928T123806Z
UID:8281-1682186400-1682193600@szbbra.hu
SUMMARY:NB1 BVSC-Zugló vs SZBRA
DESCRIPTION:2023. április 22. –én\, szombaton 18 órától a felnőtt női NB1 játékosai a huszonkettedik fordulóban Zuglóban zárják az évet. \nHelyszín: BVSC-Zugló Röplabda Csarnok (Budapest\, Szőnyi út 2.) \nHajrá Füred!
URL:https://szbbra.hu/event/nb1-bvsc-vs-szbra/
LOCATION:Budapest\, Győri út 13.\, Budapest\, Magyarország
CATEGORIES:NB1
ATTACH;FMTTYPE=image/jpeg:https://szbbra.hu/wp-content/uploads/2022/08/279457172_423609406432010_378245842736825236_n.jpg
END:VEVENT
BEGIN:VEVENT
DTSTART;TZID=Europe/Paris:20230519T110000
DTEND;TZID=Europe/Paris:20230521T170000
DTSTAMP:20260420T115407
CREATED:20230512T131007Z
LAST-MODIFIED:20230512T131023Z
UID:14728-1684494000-1684688400@szbbra.hu
SUMMARY:U 20 I. osztály DÖNTŐ
DESCRIPTION:2023. május 19-én kezd U20-as csapatunk\, egészen vasárnapig mérkőzik a döntőben. \n11:00  BRSE-FEHÉR -Szent Benedek RA Piros\n14:00 Szent Benedek RA Piros – BDSE-EMERICUS \nHelyszín: BUDAI CISZTERCI SZENT IMRE GIMNÁZIUM BUDAPEST VILLÁNYI ÚT 27.
URL:https://szbbra.hu/event/u-20-i-osztaly-donto/
LOCATION:Budapest\, Győri út 13.\, Budapest\, Magyarország
CATEGORIES:U20
ATTACH;FMTTYPE=image/jpeg:https://szbbra.hu/wp-content/uploads/2022/12/u20piros.jpg
END:VEVENT
END:VCALENDAR