BEGIN:VCALENDAR
VERSION:2.0
PRODID:-//Balatonfüred Röplabda Akadémia - ECPv5.14.0.4//NONSGML v1.0//EN
CALSCALE:GREGORIAN
METHOD:PUBLISH
X-WR-CALNAME:Balatonfüred Röplabda Akadémia
X-ORIGINAL-URL:https://szbbra.hu
X-WR-CALDESC:Events for Balatonfüred Röplabda Akadémia
REFRESH-INTERVAL;VALUE=DURATION:PT1H
X-Robots-Tag:noindex
X-PUBLISHED-TTL:PT1H
BEGIN:VTIMEZONE
TZID:Europe/Paris
BEGIN:DAYLIGHT
TZOFFSETFROM:+0100
TZOFFSETTO:+0200
TZNAME:CEST
DTSTART:20180325T010000
END:DAYLIGHT
BEGIN:STANDARD
TZOFFSETFROM:+0200
TZOFFSETTO:+0100
TZNAME:CET
DTSTART:20181028T010000
END:STANDARD
BEGIN:DAYLIGHT
TZOFFSETFROM:+0100
TZOFFSETTO:+0200
TZNAME:CEST
DTSTART:20190331T010000
END:DAYLIGHT
BEGIN:STANDARD
TZOFFSETFROM:+0200
TZOFFSETTO:+0100
TZNAME:CET
DTSTART:20191027T010000
END:STANDARD
BEGIN:DAYLIGHT
TZOFFSETFROM:+0100
TZOFFSETTO:+0200
TZNAME:CEST
DTSTART:20200329T010000
END:DAYLIGHT
BEGIN:STANDARD
TZOFFSETFROM:+0200
TZOFFSETTO:+0100
TZNAME:CET
DTSTART:20201025T010000
END:STANDARD
END:VTIMEZONE
BEGIN:VEVENT
DTSTART;VALUE=DATE:20180915
DTEND;VALUE=DATE:20180917
DTSTAMP:20260420T133407
CREATED:20180907T101955Z
LAST-MODIFIED:20180907T102102Z
UID:1869-1536969600-1537142399@szbbra.hu
SUMMARY:Ádám László Emléktorna - Gödöllő
DESCRIPTION:A szeptember közepén megrendezésre kerülő Ádám László Emléktornára kapott meghívást csapatunk. \nÖrömmel veszünk részt a két napos tornán\, ahol a következő csapatok szerepelnek majd: \nBudaörsi DSE \nDVTK \nMTK \nPenta Gödöllői RC \n  \nAz eredményekről természetesen beszámolunk! \nHajrá Füred! Hajrá Szent Benedek! \n 
URL:https://szbbra.hu/event/adam-laszlo-emlektorna-godollo/
LOCATION:Gödöllő
CATEGORIES:Felnőtt
ATTACH;FMTTYPE=image/jpeg:https://szbbra.hu/wp-content/uploads/2018/03/muz_3720.jpg
END:VEVENT
BEGIN:VEVENT
DTSTART;TZID=Europe/Paris:20181028T170000
DTEND;TZID=Europe/Paris:20181028T190000
DTSTAMP:20260420T133407
CREATED:20181002T132843Z
LAST-MODIFIED:20181002T132843Z
UID:2050-1540746000-1540753200@szbbra.hu
SUMMARY:Penta Gödöllői RC - SZBBRA
DESCRIPTION:Az októberi bajnoki programot Gödöllőn zárjuk. \nHajrá Füred! Hajrá Szent Benedek!
URL:https://szbbra.hu/event/penta-godolloi-rc-szbbra/
LOCATION:Gödöllő
CATEGORIES:Felnőtt
ATTACH;FMTTYPE=image/jpeg:https://szbbra.hu/wp-content/uploads/2018/09/42095902_1936341619766306_2575196471523540992_n.jpg
END:VEVENT
BEGIN:VEVENT
DTSTART;TZID=Europe/Paris:20181031T190000
DTEND;TZID=Europe/Paris:20181031T210000
DTSTAMP:20260420T133407
CREATED:20181002T141134Z
LAST-MODIFIED:20181002T141215Z
UID:2074-1541012400-1541019600@szbbra.hu
SUMMARY:Magyar Kupa: Penta Gödöllői RC - SZBBRA
DESCRIPTION:A Magyar Kupa párharcának visszavágója idegenben. \nHajrá Füred! Hajrá Szent Benedek!
URL:https://szbbra.hu/event/magyar-kupa-penta-godolloi-rc-szbbra/
LOCATION:Gödöllő
CATEGORIES:Felnőtt
ATTACH;FMTTYPE=image/jpeg:https://szbbra.hu/wp-content/uploads/2018/10/szbbra-penta3.jpg
END:VEVENT
BEGIN:VEVENT
DTSTART;TZID=Europe/Paris:20191213T190000
DTEND;TZID=Europe/Paris:20191213T190000
DTSTAMP:20260420T133407
CREATED:20191113T141447Z
LAST-MODIFIED:20191113T141447Z
UID:2493-1576263600-1576263600@szbbra.hu
SUMMARY:NB I.: Gödöllői RC - SZBRA
DESCRIPTION:Az év utolsó mérkőzésére kerül sor Gödöllőn. Szurkoljunk\, hogy győzelemmel búcsúztassuk az évet! \nHajrá Füred! Hajrá Szent Benedek!
URL:https://szbbra.hu/event/nb-i-godolloi-rc-szbra/
LOCATION:Gödöllő
CATEGORIES:Felnőtt
ATTACH;FMTTYPE=image/jpeg:https://szbbra.hu/wp-content/uploads/2019/11/muz_4767.jpg
END:VEVENT
BEGIN:VEVENT
DTSTART;TZID=Europe/Paris:20200307T180000
DTEND;TZID=Europe/Paris:20200307T200000
DTSTAMP:20260420T133407
CREATED:20200302T130046Z
LAST-MODIFIED:20200302T130046Z
UID:2657-1583604000-1583611200@szbbra.hu
SUMMARY:Gödöllői RC - SZBRA
DESCRIPTION:
URL:https://szbbra.hu/event/godolloi-rc-szbra/
LOCATION:Gödöllő
CATEGORIES:Felnőtt
END:VEVENT
END:VCALENDAR