BEGIN:VCALENDAR
VERSION:2.0
PRODID:-//Balatonfüred Röplabda Akadémia - ECPv5.14.0.4//NONSGML v1.0//EN
CALSCALE:GREGORIAN
METHOD:PUBLISH
X-WR-CALNAME:Balatonfüred Röplabda Akadémia
X-ORIGINAL-URL:https://szbbra.hu
X-WR-CALDESC:Events for Balatonfüred Röplabda Akadémia
REFRESH-INTERVAL;VALUE=DURATION:PT1H
X-Robots-Tag:noindex
X-PUBLISHED-TTL:PT1H
BEGIN:VTIMEZONE
TZID:Europe/Paris
BEGIN:DAYLIGHT
TZOFFSETFROM:+0100
TZOFFSETTO:+0200
TZNAME:CEST
DTSTART:20180325T010000
END:DAYLIGHT
BEGIN:STANDARD
TZOFFSETFROM:+0200
TZOFFSETTO:+0100
TZNAME:CET
DTSTART:20181028T010000
END:STANDARD
END:VTIMEZONE
BEGIN:VEVENT
DTSTART;TZID=Europe/Paris:20181027T140000
DTEND;TZID=Europe/Paris:20181027T160000
DTSTAMP:20260420T115403
CREATED:20181002T144357Z
LAST-MODIFIED:20181002T144357Z
UID:2086-1540648800-1540656000@szbbra.hu
SUMMARY:NB II: SZESE Győr - SZBBRA U21
DESCRIPTION:Hajrá Füred! Hajrá Szent Benedek!
URL:https://szbbra.hu/event/nb-ii-szese-gyor-szbbra-u21/
LOCATION:Győr
CATEGORIES:NB1
ATTACH;FMTTYPE=image/jpeg:https://szbbra.hu/wp-content/uploads/2018/10/muz_4837.jpg
END:VEVENT
END:VCALENDAR