BEGIN:VCALENDAR
VERSION:2.0
PRODID:-//Balatonfüred Röplabda Akadémia - ECPv5.14.0.4//NONSGML v1.0//EN
CALSCALE:GREGORIAN
METHOD:PUBLISH
X-WR-CALNAME:Balatonfüred Röplabda Akadémia
X-ORIGINAL-URL:https://szbbra.hu
X-WR-CALDESC:Events for Balatonfüred Röplabda Akadémia
REFRESH-INTERVAL;VALUE=DURATION:PT1H
X-Robots-Tag:noindex
X-PUBLISHED-TTL:PT1H
BEGIN:VTIMEZONE
TZID:Europe/Paris
BEGIN:DAYLIGHT
TZOFFSETFROM:+0100
TZOFFSETTO:+0200
TZNAME:CEST
DTSTART:20230326T010000
END:DAYLIGHT
BEGIN:STANDARD
TZOFFSETFROM:+0200
TZOFFSETTO:+0100
TZNAME:CET
DTSTART:20231029T010000
END:STANDARD
END:VTIMEZONE
BEGIN:VEVENT
DTSTART;VALUE=DATE:20230422
DTEND;VALUE=DATE:20230423
DTSTAMP:20260420T133434
CREATED:20230328T073337Z
LAST-MODIFIED:20230328T073337Z
UID:13272-1682121600-1682207999@szbbra.hu
SUMMARY:Leány U17 II. osztály 11. forduló
DESCRIPTION:2023. április 22-én\, szombaton U17 II. osztályú csapatunk a középszakasz következő fordulójában az ÉDRA- MÁV Előre Akadémia A és az MTK együttesével csap össze\, Lovasberényben. \n15:00 ÉDRA-MÁV Előre Akadémia A- SZBRA Kék \n16:30 MTK Budapest fehér– SZBRA Kék \nHelyszín: Lovasberényi Sportcsarnok \nHajrá Füred!
URL:https://szbbra.hu/event/leany-u17-ii-osztaly-11-fordulo/
LOCATION:Lovasberény
CATEGORIES:U17
ATTACH;FMTTYPE=image/jpeg:https://szbbra.hu/wp-content/uploads/2022/09/szent-benedek-ra-kek-u17-iii..jpg
END:VEVENT
BEGIN:VEVENT
DTSTART;VALUE=DATE:20230430
DTEND;VALUE=DATE:20230501
DTSTAMP:20260420T133434
CREATED:20230124T095055Z
LAST-MODIFIED:20230124T095104Z
UID:11560-1682812800-1682899199@szbbra.hu
SUMMARY:Leány U20 II. osztály 12. forduló
DESCRIPTION:2023. április 30. -án\, vasárnap U20 Kék csapatunk a középszakasz 12. fordulójában a Haladás illetve a Székesfehérvár U20-as korosztályával csapnak össze\, Lovasberényben. \n16:30 Haladás VSE-SZOSI – SZBRA Kék \n18:00 ÉDRA-MÁV Előre Akadémia A – SZBRA Kék \nHelyszín: Lovasberényi Sportcsarnok (Lovasberény\, Vörösmarty utca 1/a) \nHajrá Füred!
URL:https://szbbra.hu/event/leany-u20-ii-osztaly-12-fordulo/
LOCATION:Lovasberény
CATEGORIES:U20
ATTACH;FMTTYPE=image/jpeg:https://szbbra.hu/wp-content/uploads/2022/12/u20-kek.jpg
END:VEVENT
END:VCALENDAR