BEGIN:VCALENDAR
VERSION:2.0
PRODID:-//Balatonfüred Röplabda Akadémia - ECPv5.14.0.4//NONSGML v1.0//EN
CALSCALE:GREGORIAN
METHOD:PUBLISH
X-WR-CALNAME:Balatonfüred Röplabda Akadémia
X-ORIGINAL-URL:https://szbbra.hu
X-WR-CALDESC:Events for Balatonfüred Röplabda Akadémia
REFRESH-INTERVAL;VALUE=DURATION:PT1H
X-Robots-Tag:noindex
X-PUBLISHED-TTL:PT1H
BEGIN:VTIMEZONE
TZID:Europe/Paris
BEGIN:DAYLIGHT
TZOFFSETFROM:+0100
TZOFFSETTO:+0200
TZNAME:CEST
DTSTART:20180325T010000
END:DAYLIGHT
BEGIN:STANDARD
TZOFFSETFROM:+0200
TZOFFSETTO:+0100
TZNAME:CET
DTSTART:20181028T010000
END:STANDARD
BEGIN:DAYLIGHT
TZOFFSETFROM:+0100
TZOFFSETTO:+0200
TZNAME:CEST
DTSTART:20190331T010000
END:DAYLIGHT
BEGIN:STANDARD
TZOFFSETFROM:+0200
TZOFFSETTO:+0100
TZNAME:CET
DTSTART:20191027T010000
END:STANDARD
BEGIN:DAYLIGHT
TZOFFSETFROM:+0100
TZOFFSETTO:+0200
TZNAME:CEST
DTSTART:20200329T010000
END:DAYLIGHT
BEGIN:STANDARD
TZOFFSETFROM:+0200
TZOFFSETTO:+0100
TZNAME:CET
DTSTART:20201025T010000
END:STANDARD
END:VTIMEZONE
BEGIN:VEVENT
DTSTART;VALUE=DATE:20180211
DTEND;VALUE=DATE:20180212
DTSTAMP:20260420T115509
CREATED:20180207T152719Z
LAST-MODIFIED:20180207T152719Z
UID:384-1518307200-1518393599@szbbra.hu
SUMMARY:OSB - Székesfehérvár
DESCRIPTION:Országos Serdülő Bajnokság – Kvalifikációs torna\, Székesfehérvár
URL:https://szbbra.hu/event/osb-szekesfehervar/
LOCATION:Székesfehérvár\, Székesfehérvár
CATEGORIES:U15
ATTACH;FMTTYPE=image/png:https://szbbra.hu/wp-content/uploads/2018/02/logo-1.png
END:VEVENT
BEGIN:VEVENT
DTSTART;VALUE=DATE:20180324
DTEND;VALUE=DATE:20180325
DTSTAMP:20260420T115509
CREATED:20180228T164027Z
LAST-MODIFIED:20180319T132128Z
UID:805-1521849600-1521935999@szbbra.hu
SUMMARY:OMB - Székesfehérvár
DESCRIPTION:Székesfehérváron kerül megrendezésre a mini csapatunk következő OMB tornája.
URL:https://szbbra.hu/event/omb-balatonfured-2/
LOCATION:Székesfehérvár\, Székesfehérvár
CATEGORIES:U13
ATTACH;FMTTYPE=image/jpeg:https://szbbra.hu/wp-content/uploads/2018/02/muz_9137.jpg
END:VEVENT
BEGIN:VEVENT
DTSTART;TZID=Europe/Paris:20181109T080000
DTEND;TZID=Europe/Paris:20181109T170000
DTSTAMP:20260420T115509
CREATED:20181002T145008Z
LAST-MODIFIED:20181002T145008Z
UID:2091-1541750400-1541782800@szbbra.hu
SUMMARY:NB II: MÁV Előre SC - SZBBRA U21
DESCRIPTION:Hajrá Füred! Hajrá Szent Benedek!
URL:https://szbbra.hu/event/nb-ii-mav-elore-sc-szbbra-u21/
LOCATION:Székesfehérvár\, Székesfehérvár
CATEGORIES:NB1
ATTACH;FMTTYPE=image/jpeg:https://szbbra.hu/wp-content/uploads/2018/10/muz_5022.jpg
END:VEVENT
BEGIN:VEVENT
DTSTART;TZID=Europe/Paris:20200105T110000
DTEND;TZID=Europe/Paris:20200105T130000
DTSTAMP:20260420T115509
CREATED:20191113T180524Z
LAST-MODIFIED:20191113T180524Z
UID:2514-1578222000-1578229200@szbbra.hu
SUMMARY:U21/NB II.: Fésűs RA - SZBBRA
DESCRIPTION:Az év első mérkőzését egy kora vasárnap délelőtti időpontban rendezi a székesfehárvári ellenfelünk. Reméljük a korai kezdet ellenére győzelmet aratnak a füredi lányok! \nHajrá Füred! Hajrá Szent Benedek!
URL:https://szbbra.hu/event/u21-nb-ii-fesus-ra-szbbra/
LOCATION:Székesfehérvár\, Székesfehérvár
CATEGORIES:NB1
ATTACH;FMTTYPE=image/jpeg:https://szbbra.hu/wp-content/uploads/2019/11/muz_4993.jpg
END:VEVENT
BEGIN:VEVENT
DTSTART;TZID=Europe/Paris:20200321T160000
DTEND;TZID=Europe/Paris:20200321T180000
DTSTAMP:20260420T115509
CREATED:20200302T130321Z
LAST-MODIFIED:20200302T130321Z
UID:2661-1584806400-1584813600@szbbra.hu
SUMMARY:Máv Előre-BERICAP - SZBRA
DESCRIPTION:
URL:https://szbbra.hu/event/mav-elore-bericap-szbra/
LOCATION:Székesfehérvár\, Székesfehérvár
CATEGORIES:Felnőtt
END:VEVENT
END:VCALENDAR