BEGIN:VCALENDAR
VERSION:2.0
PRODID:-//Balatonfüred Röplabda Akadémia - ECPv5.14.0.4//NONSGML v1.0//EN
CALSCALE:GREGORIAN
METHOD:PUBLISH
X-WR-CALNAME:Balatonfüred Röplabda Akadémia
X-ORIGINAL-URL:https://szbbra.hu
X-WR-CALDESC:Events for Balatonfüred Röplabda Akadémia
REFRESH-INTERVAL;VALUE=DURATION:PT1H
X-Robots-Tag:noindex
X-PUBLISHED-TTL:PT1H
BEGIN:VTIMEZONE
TZID:Europe/Paris
BEGIN:DAYLIGHT
TZOFFSETFROM:+0100
TZOFFSETTO:+0200
TZNAME:CEST
DTSTART:20180325T010000
END:DAYLIGHT
BEGIN:STANDARD
TZOFFSETFROM:+0200
TZOFFSETTO:+0100
TZNAME:CET
DTSTART:20181028T010000
END:STANDARD
BEGIN:DAYLIGHT
TZOFFSETFROM:+0100
TZOFFSETTO:+0200
TZNAME:CEST
DTSTART:20190331T010000
END:DAYLIGHT
BEGIN:STANDARD
TZOFFSETFROM:+0200
TZOFFSETTO:+0100
TZNAME:CET
DTSTART:20191027T010000
END:STANDARD
BEGIN:DAYLIGHT
TZOFFSETFROM:+0100
TZOFFSETTO:+0200
TZNAME:CEST
DTSTART:20200329T010000
END:DAYLIGHT
BEGIN:STANDARD
TZOFFSETFROM:+0200
TZOFFSETTO:+0100
TZNAME:CET
DTSTART:20201025T010000
END:STANDARD
BEGIN:DAYLIGHT
TZOFFSETFROM:+0100
TZOFFSETTO:+0200
TZNAME:CEST
DTSTART:20210328T010000
END:DAYLIGHT
BEGIN:STANDARD
TZOFFSETFROM:+0200
TZOFFSETTO:+0100
TZNAME:CET
DTSTART:20211031T010000
END:STANDARD
BEGIN:DAYLIGHT
TZOFFSETFROM:+0100
TZOFFSETTO:+0200
TZNAME:CEST
DTSTART:20220327T010000
END:DAYLIGHT
BEGIN:STANDARD
TZOFFSETFROM:+0200
TZOFFSETTO:+0100
TZNAME:CET
DTSTART:20221030T010000
END:STANDARD
END:VTIMEZONE
BEGIN:VEVENT
DTSTART;TZID=Europe/Paris:20181104T180000
DTEND;TZID=Europe/Paris:20181104T200000
DTSTAMP:20260420T133739
CREATED:20181002T133234Z
LAST-MODIFIED:20181002T133235Z
UID:2052-1541354400-1541361600@szbbra.hu
SUMMARY:SZBBRA - Budaörsi DSE
DESCRIPTION:A budaörsi csapatot látjuk vendégül szokásos\, vasárnap esti időpontban. \nHajrá Füred! Hajrá Szent Benedek!
URL:https://szbbra.hu/event/szbbra-budaorsi-dse/
LOCATION:Szent Benedek-Balatonfüred RA\, Hősök tere 1.\, Balatonfüred\, Veszprém\, 8230\, Magyarország
CATEGORIES:Felnőtt
ATTACH;FMTTYPE=image/jpeg:https://szbbra.hu/wp-content/uploads/2018/10/muz_0196.jpg
END:VEVENT
BEGIN:VEVENT
DTSTART;TZID=Europe/Paris:20181122T180000
DTEND;TZID=Europe/Paris:20181122T200000
DTSTAMP:20260420T133739
CREATED:20181119T113024Z
LAST-MODIFIED:20181119T113024Z
UID:2285-1542909600-1542916800@szbbra.hu
SUMMARY:Magyar Kupa negyeddöntő: SZBBRA - VASAS Óbuda
DESCRIPTION:A klub eddigi legnagyobb sikerét elérve csapatunk bejutott a Magyar Kupa legjobb 8 csapata közé. Nb I-es újoncként és azt figyelembe véve\, hogy a klub mindössze 4 éves már ez is óriási siker\, amihez ezúton is gratulálunk! \nA VASAS Óbuda az Extraliga egyik legerősebb csapata\, őket fogadjuk csütörtökön a negyeddöntőben. \nJó játékot kívánunk mindenkinek és hajrá Füred!
URL:https://szbbra.hu/event/magyar-kupa-negyeddonto-szbbra-vasas-obuda/
LOCATION:Szent Benedek-Balatonfüred RA\, Hősök tere 1.\, Balatonfüred\, Veszprém\, 8230\, Magyarország
CATEGORIES:Felnőtt
ATTACH;FMTTYPE=image/jpeg:https://szbbra.hu/wp-content/uploads/2018/11/negyeddnt5.jpg
END:VEVENT
BEGIN:VEVENT
DTSTART;TZID=Europe/Paris:20181202T150000
DTEND;TZID=Europe/Paris:20181202T170000
DTSTAMP:20260420T133739
CREATED:20181002T145532Z
LAST-MODIFIED:20181002T145532Z
UID:2095-1543762800-1543770000@szbbra.hu
SUMMARY:NB II: SZBBRA U21 - Röpisuli SE - Ajka
DESCRIPTION:Hajrá Füred! Hajrá Szent Benedek!
URL:https://szbbra.hu/event/nb-ii-szbbra-u21-ropisuli-se-ajka/
LOCATION:Szent Benedek-Balatonfüred RA\, Hősök tere 1.\, Balatonfüred\, Veszprém\, 8230\, Magyarország
CATEGORIES:NB1
ATTACH;FMTTYPE=image/jpeg:https://szbbra.hu/wp-content/uploads/2018/10/muz_9749.jpg
END:VEVENT
BEGIN:VEVENT
DTSTART;TZID=Europe/Paris:20181202T180000
DTEND;TZID=Europe/Paris:20181202T200000
DTSTAMP:20260420T133739
CREATED:20181002T134516Z
LAST-MODIFIED:20181002T134517Z
UID:2064-1543773600-1543780800@szbbra.hu
SUMMARY:SZBBRA - DVTK
DESCRIPTION:Hosszú idő után újra hazai pályán láthatjuk a csapatot. \nHajrá Füred! Hajrá Szent Benedek!
URL:https://szbbra.hu/event/szbbra-dvtk/
LOCATION:Szent Benedek-Balatonfüred RA\, Hősök tere 1.\, Balatonfüred\, Veszprém\, 8230\, Magyarország
CATEGORIES:Felnőtt
ATTACH;FMTTYPE=image/jpeg:https://szbbra.hu/wp-content/uploads/2018/10/muz_0857.jpg
END:VEVENT
BEGIN:VEVENT
DTSTART;TZID=Europe/Paris:20181216T150000
DTEND;TZID=Europe/Paris:20181216T170000
DTSTAMP:20260420T133739
CREATED:20181002T150023Z
LAST-MODIFIED:20181002T150023Z
UID:2099-1544972400-1544979600@szbbra.hu
SUMMARY:NB II: SZBBRA U21 - UTE U21
DESCRIPTION:Hajrá Füred! Hajrá Szent Benedek!
URL:https://szbbra.hu/event/nb-ii-szbbra-u21-ute-u21/
LOCATION:Szent Benedek-Balatonfüred RA\, Hősök tere 1.\, Balatonfüred\, Veszprém\, 8230\, Magyarország
CATEGORIES:NB1
ATTACH;FMTTYPE=image/jpeg:https://szbbra.hu/wp-content/uploads/2018/09/img-1077.jpg
END:VEVENT
BEGIN:VEVENT
DTSTART;TZID=Europe/Paris:20181216T180000
DTEND;TZID=Europe/Paris:20181216T200000
DTSTAMP:20260420T133739
CREATED:20181002T135153Z
LAST-MODIFIED:20181002T135154Z
UID:2068-1544983200-1544990400@szbbra.hu
SUMMARY:SZBBRA - Penta Gödöllői RC
DESCRIPTION:A karácsonyi szünet előtti utolsó forduló szerencsére hazai pályán kerül megrendezésre. \nHajrá Füred! Hajrá Szent Benedek!
URL:https://szbbra.hu/event/szbbra-penta-godolloi-rc/
LOCATION:Szent Benedek-Balatonfüred RA\, Hősök tere 1.\, Balatonfüred\, Veszprém\, 8230\, Magyarország
CATEGORIES:Felnőtt
ATTACH;FMTTYPE=image/jpeg:https://szbbra.hu/wp-content/uploads/2018/10/muz_9832.jpg
END:VEVENT
BEGIN:VEVENT
DTSTART;TZID=Europe/Paris:20190317T180000
DTEND;TZID=Europe/Paris:20190317T200000
DTSTAMP:20260420T133739
CREATED:20190313T204059Z
LAST-MODIFIED:20190313T204059Z
UID:2435-1552845600-1552852800@szbbra.hu
SUMMARY:SZBBRA - 1.MCM Diamant Kaposvár
DESCRIPTION:A rájátszás 2. mérkőzésén hosszú idő után hazai pályán szurkolhatunk a csapatnak. \nHajrá Füred!
URL:https://szbbra.hu/event/szbbra-1-mcm-diamant-kaposvar/
LOCATION:Szent Benedek-Balatonfüred RA\, Hősök tere 1.\, Balatonfüred\, Veszprém\, 8230\, Magyarország
CATEGORIES:Felnőtt
ATTACH;FMTTYPE=image/jpeg:https://szbbra.hu/wp-content/uploads/2018/11/2018-11-26_13-05-04_349.jpg
END:VEVENT
BEGIN:VEVENT
DTSTART;TZID=Europe/Paris:20190323T180000
DTEND;TZID=Europe/Paris:20190323T200000
DTSTAMP:20260420T133739
CREATED:20190313T204342Z
LAST-MODIFIED:20190313T204342Z
UID:2437-1553364000-1553371200@szbbra.hu
SUMMARY:SZBBRA - Hungast - Haladás
DESCRIPTION:Az extraligás szombathelyi csapatot fogadjuk hazai pályán. \nHajrá Füred!
URL:https://szbbra.hu/event/szbbra-hungast-haladas/
LOCATION:Szent Benedek-Balatonfüred RA\, Hősök tere 1.\, Balatonfüred\, Veszprém\, 8230\, Magyarország
CATEGORIES:Felnőtt
ATTACH;FMTTYPE=image/jpeg:https://szbbra.hu/wp-content/uploads/2018/12/2018-12-03_16-39-02_798.jpg
END:VEVENT
BEGIN:VEVENT
DTSTART;TZID=Europe/Paris:20190331T180000
DTEND;TZID=Europe/Paris:20190331T200000
DTSTAMP:20260420T133739
CREATED:20190313T204940Z
LAST-MODIFIED:20190313T204940Z
UID:2441-1554055200-1554062400@szbbra.hu
SUMMARY:SZBBRA - Jászberény VOLLEYBALL
DESCRIPTION:Az extraligás jászberényi csapat érkezik Füredre a hét második mérkőzésén. \nHajrá Füred!
URL:https://szbbra.hu/event/szbbra-jaszbereny-volleyball/
LOCATION:Szent Benedek-Balatonfüred RA\, Hősök tere 1.\, Balatonfüred\, Veszprém\, 8230\, Magyarország
CATEGORIES:Felnőtt
ATTACH;FMTTYPE=image/jpeg:https://szbbra.hu/wp-content/uploads/2018/11/muz_1658.jpg
END:VEVENT
BEGIN:VEVENT
DTSTART;TZID=Europe/Paris:20191116T180000
DTEND;TZID=Europe/Paris:20191116T200000
DTSTAMP:20260420T133739
CREATED:20191113T134618Z
LAST-MODIFIED:20191113T134754Z
UID:2480-1573927200-1573934400@szbbra.hu
SUMMARY:NB I. SZBRA - TFSE
DESCRIPTION:A bajnokság soron következő fordulójában a tavalyi szezon óta megerősödött TFSE csapatát fogadjuk. Fontos mérkőzést vár a lányokra\, hiszen a 3. hely megőrzéséhez mindenképpen győzni kell! \nHajrá Füred! Hajrá Szent Benedek!
URL:https://szbbra.hu/event/nb-i-szbra-tfse/
LOCATION:Szent Benedek-Balatonfüred RA\, Hősök tere 1.\, Balatonfüred\, Veszprém\, 8230\, Magyarország
CATEGORIES:Felnőtt
ATTACH;FMTTYPE=image/jpeg:https://szbbra.hu/wp-content/uploads/2019/11/muz_3483.jpg
END:VEVENT
BEGIN:VEVENT
DTSTART;TZID=Europe/Paris:20191124T160000
DTEND;TZID=Europe/Paris:20191124T180000
DTSTAMP:20260420T133739
CREATED:20191113T175244Z
LAST-MODIFIED:20191113T175244Z
UID:2508-1574611200-1574618400@szbbra.hu
SUMMARY:U21/NB II.: SZBBRA - Haladás VSE/SI
DESCRIPTION:Hazai pályán fogadjuk az extraligás Haladás U21-es csapatát. \nHajrá Füred! Hajrá Szent Benedek!
URL:https://szbbra.hu/event/u21-nb-ii-szbbra-haladas-vse-si/
LOCATION:Szent Benedek-Balatonfüred RA\, Hősök tere 1.\, Balatonfüred\, Veszprém\, 8230\, Magyarország
CATEGORIES:NB1
ATTACH;FMTTYPE=image/jpeg:https://szbbra.hu/wp-content/uploads/2019/11/muz_5418.jpg
END:VEVENT
BEGIN:VEVENT
DTSTART;TZID=Europe/Paris:20191206T190000
DTEND;TZID=Europe/Paris:20191206T210000
DTSTAMP:20260420T133739
CREATED:20191113T175639Z
LAST-MODIFIED:20191113T175639Z
UID:2510-1575658800-1575666000@szbbra.hu
SUMMARY:U21/NB II.: SZBBRA - RÖAK Kaposvári Egyetem
DESCRIPTION:A kaposvári csapat a Mikulással együtt érkezik! Ne hagyjátok ki a péntek esti meccset sem! \nHajrá Füred! Hajrá Szent Benedek!
URL:https://szbbra.hu/event/u21-nb-ii-szbbra-roak-kaposvari-egyetem/
LOCATION:Szent Benedek-Balatonfüred RA\, Hősök tere 1.\, Balatonfüred\, Veszprém\, 8230\, Magyarország
CATEGORIES:NB1
ATTACH;FMTTYPE=image/jpeg:https://szbbra.hu/wp-content/uploads/2019/11/muz_5418.jpg
END:VEVENT
BEGIN:VEVENT
DTSTART;TZID=Europe/Paris:20191208T180000
DTEND;TZID=Europe/Paris:20191208T200000
DTSTAMP:20260420T133739
CREATED:20191113T141144Z
LAST-MODIFIED:20191113T141145Z
UID:2491-1575828000-1575835200@szbbra.hu
SUMMARY:NB I.: SZBRA - Máv Előre-BERICAP
DESCRIPTION:A bajnokságot jelenleg vezető székesfehérvári együttes ellen az első mérkőzésen vereséget szenvedtünk egy rendkívül szoros 5 szettes meccsen. Ezúttal itthon reméljük sikerül győzedelmeskedni! \nHajrá Füred! Hajrá Szent Benedek!
URL:https://szbbra.hu/event/nb-i-szbra-mav-elore-bericap/
LOCATION:Szent Benedek-Balatonfüred RA\, Hősök tere 1.\, Balatonfüred\, Veszprém\, 8230\, Magyarország
CATEGORIES:Felnőtt
ATTACH;FMTTYPE=image/jpeg:https://szbbra.hu/wp-content/uploads/2019/11/muz_3483.jpg
END:VEVENT
BEGIN:VEVENT
DTSTART;TZID=Europe/Paris:20200112T160000
DTEND;TZID=Europe/Paris:20200112T180000
DTSTAMP:20260420T133739
CREATED:20191113T180838Z
LAST-MODIFIED:20191113T180838Z
UID:2516-1578844800-1578852000@szbbra.hu
SUMMARY:U21/NB II.: SZBBRA - UTE U21
DESCRIPTION:A tavaly országos döntőt nyert UTE csapata utazik Balatonfüredre. Az első mérkőzésen legyőzték lányainkat\, de reméljük ezúttal szoros meccset tudunk velük játszani! \nHajrá Füred! Hajrá Szent Benedek!
URL:https://szbbra.hu/event/u21-nb-ii-szbbra-ute-u21/
LOCATION:Szent Benedek-Balatonfüred RA\, Hősök tere 1.\, Balatonfüred\, Veszprém\, 8230\, Magyarország
CATEGORIES:NB1
ATTACH;FMTTYPE=image/jpeg:https://szbbra.hu/wp-content/uploads/2019/11/muz_5418.jpg
END:VEVENT
BEGIN:VEVENT
DTSTART;TZID=Europe/Paris:20200118T180000
DTEND;TZID=Europe/Paris:20200118T200000
DTSTAMP:20260420T133739
CREATED:20191113T142115Z
LAST-MODIFIED:20191113T142115Z
UID:2498-1579370400-1579377600@szbbra.hu
SUMMARY:NB I.: SZBRA - DVTK FUX
DESCRIPTION:A miskolci mérkőzésen vereséget szenvedtünk sajnos\, itt az idő a visszavágóra! Szurkoljunk együtt\, hogy sikerüljön győzni és megszerezni a rájátszás szempontjából nagyon fontos pontokat! \nHajrá Füred! Hajrá Szent Benedek!
URL:https://szbbra.hu/event/nb-i-szbra-dvtk-fux/
LOCATION:Szent Benedek-Balatonfüred RA\, Hősök tere 1.\, Balatonfüred\, Veszprém\, 8230\, Magyarország
CATEGORIES:Felnőtt
ATTACH;FMTTYPE=image/jpeg:https://szbbra.hu/wp-content/uploads/2019/11/muz_3483.jpg
END:VEVENT
BEGIN:VEVENT
DTSTART;TZID=Europe/Paris:20200126T160000
DTEND;TZID=Europe/Paris:20200126T180000
DTSTAMP:20260420T133739
CREATED:20191113T181701Z
LAST-MODIFIED:20191113T181701Z
UID:2521-1580054400-1580061600@szbbra.hu
SUMMARY:U21/NB II.: SZBBRA - Röpisuli Sportegyesület
DESCRIPTION:Az ajkai alakulatot hazai pályán fogadjuk ezúttal. \nHajrá Füred! Hajrá Szent Benedek!
URL:https://szbbra.hu/event/u21-nb-ii-szbbra-ropisuli-sportegyesulet/
LOCATION:Szent Benedek-Balatonfüred RA\, Hősök tere 1.\, Balatonfüred\, Veszprém\, 8230\, Magyarország
CATEGORIES:NB1
ATTACH;FMTTYPE=image/jpeg:https://szbbra.hu/wp-content/uploads/2019/11/muz_5418.jpg
END:VEVENT
BEGIN:VEVENT
DTSTART;TZID=Europe/Paris:20200201T180000
DTEND;TZID=Europe/Paris:20200201T200000
DTSTAMP:20260420T133739
CREATED:20191113T142649Z
LAST-MODIFIED:20191113T142650Z
UID:2502-1580580000-1580587200@szbbra.hu
SUMMARY:NB I.: SZBRA - Palota VSN KFT.
DESCRIPTION:Az alapszakasz utolsó fordulójában a Palotát fogadjuk hazai pályán. Szurkoljunk együtt! \nHajrá Füred! Hajrá Szent Benedek!
URL:https://szbbra.hu/event/nb-i-szbra-palota-vsn-kft/
LOCATION:Szent Benedek-Balatonfüred RA\, Hősök tere 1.\, Balatonfüred\, Veszprém\, 8230\, Magyarország
CATEGORIES:Felnőtt
ATTACH;FMTTYPE=image/jpeg:https://szbbra.hu/wp-content/uploads/2019/11/muz_3483.jpg
END:VEVENT
BEGIN:VEVENT
DTSTART;TZID=Europe/Paris:20200208T180000
DTEND;TZID=Europe/Paris:20200208T200000
DTSTAMP:20260420T133739
CREATED:20200202T121139Z
LAST-MODIFIED:20200302T121944Z
UID:2650-1581184800-1581192000@szbbra.hu
SUMMARY:NBI.: SZBRA-DSZC-Eötvös DSE
DESCRIPTION:
URL:https://szbbra.hu/event/nbi-szbra-dszc-eotvos-dse2/
LOCATION:Szent Benedek-Balatonfüred RA\, Hősök tere 1.\, Balatonfüred\, Veszprém\, 8230\, Magyarország
END:VEVENT
BEGIN:VEVENT
DTSTART;TZID=Europe/Paris:20200304T184500
DTEND;TZID=Europe/Paris:20200304T204500
DTSTAMP:20260420T133739
CREATED:20200302T125929Z
LAST-MODIFIED:20200302T133233Z
UID:2655-1583347500-1583354700@szbbra.hu
SUMMARY:SZBRA - TFSE
DESCRIPTION:
URL:https://szbbra.hu/event/szbra-tfse/
LOCATION:Szent Benedek-Balatonfüred RA\, Hősök tere 1.\, Balatonfüred\, Veszprém\, 8230\, Magyarország
CATEGORIES:Felnőtt
END:VEVENT
BEGIN:VEVENT
DTSTART;TZID=Europe/Paris:20200314T180000
DTEND;TZID=Europe/Paris:20200314T200000
DTSTAMP:20260420T133739
CREATED:20200302T130149Z
LAST-MODIFIED:20200302T133331Z
UID:2659-1584208800-1584216000@szbbra.hu
SUMMARY:SZBRA - Palota VSN KFT
DESCRIPTION:
URL:https://szbbra.hu/event/szbra-palota-vsn-kft/
LOCATION:Szent Benedek-Balatonfüred RA\, Hősök tere 1.\, Balatonfüred\, Veszprém\, 8230\, Magyarország
CATEGORIES:Felnőtt
END:VEVENT
BEGIN:VEVENT
DTSTART;TZID=Europe/Paris:20200328T180000
DTEND;TZID=Europe/Paris:20200328T200000
DTSTAMP:20260420T133739
CREATED:20200302T130414Z
LAST-MODIFIED:20200302T133350Z
UID:2663-1585418400-1585425600@szbbra.hu
SUMMARY:SZBRA - DVTK FUX
DESCRIPTION:
URL:https://szbbra.hu/event/szbra-dvtk-fux/
LOCATION:Szent Benedek-Balatonfüred RA\, Hősök tere 1.\, Balatonfüred\, Veszprém\, 8230\, Magyarország
CATEGORIES:Felnőtt
END:VEVENT
BEGIN:VEVENT
DTSTART;VALUE=DATE:20220917
DTEND;VALUE=DATE:20220918
DTSTAMP:20260420T133739
CREATED:20220912T120509Z
LAST-MODIFIED:20220913T090956Z
UID:7462-1663372800-1663459199@szbbra.hu
SUMMARY:U15 Felkészülési Torna
DESCRIPTION:A hétvégén\, szombaton U15 felkészülési tornát rendezünk a Tornacsarnokban! Szeretettel várunk minden kedves érdeklődőt! \nA sorsolás: \n\n10:00 SZBRA-Kaposvár\n12:00 Szombathely-Kaposvár\n14:00 SZBRA-Szombathely\n16:00 SZBRA U17 II. – Szombathely U15 I.\n\nHajrá Szent Benedek! \n\n\n\n\n\n\n\n\n\n\n\n\n\n\n\n\n\n\n\n\n\n\n\n\n\n\n\n\n\n\n\n\n\n 
URL:https://szbbra.hu/event/u15-felkeszulesi-torna/
LOCATION:Szent Benedek-Balatonfüred RA\, Hősök tere 1.\, Balatonfüred\, Veszprém\, 8230\, Magyarország
CATEGORIES:U15
ATTACH;FMTTYPE=image/jpeg:https://szbbra.hu/wp-content/uploads/2022/09/u15-felkeszules.jpg
END:VEVENT
BEGIN:VEVENT
DTSTART;VALUE=DATE:20220918
DTEND;VALUE=DATE:20220919
DTSTAMP:20260420T133739
CREATED:20220913T072017Z
LAST-MODIFIED:20220913T093353Z
UID:7693-1663459200-1663545599@szbbra.hu
SUMMARY:U17/U20 Felkészülési Torna
DESCRIPTION:A hétvégén\, vasárnap U17/U20 felkészülési tornát rendezünk a Tornacsarnokban! Szeretettel várunk minden kedves érdeklődőt! \nA sorsolás: \n\n9:00 DELTA U20 – SZBRA Piros U20\n11:00 Gödöllő U20 – SZBRA Piros U17\n13:00 Budaörs U17 – SZBRA Sárga U17\n15:00 DELTA U20 – SZBRA Kék U20\n16:30 Gödöllő U20 – SZBRA Piros U20\n18:00 Budaörs U17 – SZBRA Kék U17\n\nHajrá Szent Benedek!
URL:https://szbbra.hu/event/u17-u20-felkeszulesi-torna/
LOCATION:Szent Benedek-Balatonfüred RA\, Hősök tere 1.\, Balatonfüred\, Veszprém\, 8230\, Magyarország
CATEGORIES:U17,U20
ATTACH;FMTTYPE=image/jpeg:https://szbbra.hu/wp-content/uploads/2022/09/u17-u20-felkeszules.jpg
END:VEVENT
BEGIN:VEVENT
DTSTART;VALUE=DATE:20221008
DTEND;VALUE=DATE:20221009
DTSTAMP:20260420T133739
CREATED:20220928T082201Z
LAST-MODIFIED:20220928T082908Z
UID:8104-1665187200-1665273599@szbbra.hu
SUMMARY:Leány U20 II. osztály Ny alapszakasz 2. forduló
DESCRIPTION:2022. október 8. -án\, szombaton U20 Kék csapatunk az alapszakasz 2. fordulójában a Budaörs illetve a BVSC U20-as korosztályával csapnak össze hazai környezetben\, a Szent Benedek Gimnázium sportcsarnokban. \n11:00 SZBRA Kék – EMERICUS-BDSE \n14:00 SZBRA Kék- BVSC-Zugló Kék \nSzeretettel várunk minden kedves szurkolót a lelátóra! \nHelyszín: Szent Benedek Gimnázium (Balatonfüred\, Hősök Tere 1.) bejutás és parkolási lehetőség az Arácsi úti oldalról. \n  \nHajrá Füred!
URL:https://szbbra.hu/event/leany-u20-ii-osztaly-ny-alapszakasz-2-fordulo/
LOCATION:Szent Benedek-Balatonfüred RA\, Hősök tere 1.\, Balatonfüred\, Veszprém\, 8230\, Magyarország
CATEGORIES:U20
ATTACH;FMTTYPE=image/jpeg:https://szbbra.hu/wp-content/uploads/2022/09/img_8941.jpg
END:VEVENT
BEGIN:VEVENT
DTSTART;TZID=Europe/Paris:20221022T080000
DTEND;TZID=Europe/Paris:20221022T170000
DTSTAMP:20260420T133739
CREATED:20220928T082725Z
LAST-MODIFIED:20220928T082732Z
UID:8110-1666425600-1666458000@szbbra.hu
SUMMARY:Leány U20 II. osztály Ny alapszakasz 3. forduló
DESCRIPTION:2022. október 22. -én\, szombaton U20 Kék csapatunk az alapszakasz 3. fordulójában a KASI illetve a DELTA Érd U20-as korosztályával csapnak össze hazai környezetben\, a Szent Benedek Gimnázium sportcsarnokban. \n11:00 SZBRA Kék – KASI U20 \n14:00 SZBRA Kék- DELTA Röplabda SE \nSzeretettel várunk minden kedves szurkolót a lelátóra! \nHelyszín: Szent Benedek Gimnázium (Balatonfüred\, Hősök Tere 1.) bejutás és parkolási lehetőség az Arácsi úti oldalról. \n  \nHajrá Füred!
URL:https://szbbra.hu/event/leany-u20-ii-osztaly-ny-alapszakasz-3-fordulo/
LOCATION:Szent Benedek-Balatonfüred RA\, Hősök tere 1.\, Balatonfüred\, Veszprém\, 8230\, Magyarország
CATEGORIES:U20
ATTACH;FMTTYPE=image/jpeg:https://szbbra.hu/wp-content/uploads/2022/09/img_8941.jpg
END:VEVENT
BEGIN:VEVENT
DTSTART;TZID=Europe/Paris:20221030T160000
DTEND;TZID=Europe/Paris:20221030T180000
DTSTAMP:20260420T133739
CREATED:20220928T085206Z
LAST-MODIFIED:20220928T090340Z
UID:8128-1667145600-1667152800@szbbra.hu
SUMMARY:NB1 SZBRA vs TFSE
DESCRIPTION:2022. október 30. – án\, vasárnap 16 órától a felnőtt női NB1 játékosai a második fordulóban a TFSE ellen lépnek pályára\, hazai környezetben. \nSzeretettel várunk minden kedves szurkolót! \nHelyszín: Szent Benedek Gimnázium (Balatonfüred\, Hősök tere 1.) parkolási lehetőség és bejutás az Arácsi út felől. \nHajrá Füred!
URL:https://szbbra.hu/event/nb1-szbra-vs-tfse/
LOCATION:Szent Benedek-Balatonfüred RA\, Hősök tere 1.\, Balatonfüred\, Veszprém\, 8230\, Magyarország
CATEGORIES:NB1
ATTACH;FMTTYPE=image/jpeg:https://szbbra.hu/wp-content/uploads/2022/09/1663055108545.jpg
END:VEVENT
BEGIN:VEVENT
DTSTART;VALUE=DATE:20221112
DTEND;VALUE=DATE:20221113
DTSTAMP:20260420T133739
CREATED:20221107T171222Z
LAST-MODIFIED:20221107T171222Z
UID:9128-1668211200-1668297599@szbbra.hu
SUMMARY:Leány U15 II. o. Nyugat 4. forduló
DESCRIPTION:2022. november 12. -én\, szombaton U15 – ös csapatunk az alapszakasz 4. fordulójában az Vasas illetve a DKLSN U15-ös korosztályával csapnak össze hazai pályán\, a Szent Benedek Gimnázium Sportcsarnokában! \nSzeretettel várunk minden kedves szurkolót! \n11:00 SZBRA – Vasas SC U15 Fehér \n13:00 Vasas SC U15 Fehér – DKLSN 15’A \n15:00 DKLSN 15’A – SZBRA \nHelyszín: Szent Benedek Gimnázium (Balatonfüred\, Hősök tere 1. – bejárat az Arácsi út felől.) \n  \nHajrá Füred!
URL:https://szbbra.hu/event/leany-u15-ii-o-nyugat-4-fordulo/
LOCATION:Szent Benedek-Balatonfüred RA\, Hősök tere 1.\, Balatonfüred\, Veszprém\, 8230\, Magyarország
CATEGORIES:U15
ATTACH;FMTTYPE=image/jpeg:https://szbbra.hu/wp-content/uploads/2022/11/311433527_496622355668190_2176079366373594673_n.jpg
END:VEVENT
BEGIN:VEVENT
DTSTART;VALUE=DATE:20221120
DTEND;VALUE=DATE:20221121
DTSTAMP:20260420T133739
CREATED:20221108T122229Z
LAST-MODIFIED:20221108T122229Z
UID:9701-1668902400-1668988799@szbbra.hu
SUMMARY:Szalayné Sebők Éva U17 OSB I. osztály 4. forduló
DESCRIPTION:2022. november 20. -án\, vasárnap U17 Piros csapatunk az alapszakasz 4. fordulójában a Gödöllő illetve a Nyíregyháza U17-es korosztályával csapnak össze hazai pályán. \nSzeretettel várunk minden kedves szurkolót! \n11:00 SZBRA Piros – Gödöllői RC \n13:00 Gödöllői RC – Nyíregyháza \n15:00 SZBRA Piros – Nyíregyháza \nHelyszín: Szent Benedek Gimnázium Sportcsarnoka (Balatonfüred\, Hősök tere 1.\, bejárat az Arácsi út felől) \nHajrá Füred!
URL:https://szbbra.hu/event/szalayne-sebok-eva-u17-osb-i-osztaly-4-fordulo/
LOCATION:Szent Benedek-Balatonfüred RA\, Hősök tere 1.\, Balatonfüred\, Veszprém\, 8230\, Magyarország
CATEGORIES:U17
ATTACH;FMTTYPE=image/jpeg:https://szbbra.hu/wp-content/uploads/2022/11/u17piros.jpg
END:VEVENT
BEGIN:VEVENT
DTSTART;TZID=Europe/Paris:20221123T173000
DTEND;TZID=Europe/Paris:20221123T193000
DTSTAMP:20260420T133739
CREATED:20220928T090629Z
LAST-MODIFIED:20220928T090644Z
UID:8152-1669224600-1669231800@szbbra.hu
SUMMARY:NB1 SZBRA vs DVTK
DESCRIPTION:2022. november 23. – án\, szerdán 17:30 -tól a felnőtt női NB1 játékosai az ötödik fordulóban a Diósgyőr ellen lépnek pályára\, hazai környezetben. \nSzeretettel várunk minden kedves szurkolót! \nHelyszín: Szent Benedek Gimnázium (Balatonfüred\, Hősök tere 1.) parkolási lehetőség és bejutás az Arácsi út felől. \nHajrá Füred!
URL:https://szbbra.hu/event/nb1-szbra-vs-dvtk/
LOCATION:Szent Benedek-Balatonfüred RA\, Hősök tere 1.\, Balatonfüred\, Veszprém\, 8230\, Magyarország
CATEGORIES:NB1
ATTACH;FMTTYPE=image/jpeg:https://szbbra.hu/wp-content/uploads/2022/09/1663055108545.jpg
END:VEVENT
BEGIN:VEVENT
DTSTART;TZID=Europe/Paris:20221204T160000
DTEND;TZID=Europe/Paris:20221204T180000
DTSTAMP:20260420T133739
CREATED:20220928T090851Z
LAST-MODIFIED:20220928T090851Z
UID:8158-1670169600-1670176800@szbbra.hu
SUMMARY:NB1 SZBRA vs Budaörs
DESCRIPTION:2022. december 4. – én\, vasárnap 16 órától a felnőtt női NB1 játékosai a hatodik fordulóban a Budaörs ellen lépnek pályára\, hazai környezetben. \nSzeretettel várunk minden kedves szurkolót! \nHelyszín: Szent Benedek Gimnázium (Balatonfüred\, Hősök tere 1.) parkolási lehetőség és bejutás az Arácsi út felől. \nHajrá Füred!
URL:https://szbbra.hu/event/nb1-szbra-vs-budaors/
LOCATION:Szent Benedek-Balatonfüred RA\, Hősök tere 1.\, Balatonfüred\, Veszprém\, 8230\, Magyarország
CATEGORIES:NB1
ATTACH;FMTTYPE=image/jpeg:https://szbbra.hu/wp-content/uploads/2022/09/1663055108545.jpg
END:VEVENT
END:VCALENDAR