BEGIN:VCALENDAR
VERSION:2.0
PRODID:-//Balatonfüred Röplabda Akadémia - ECPv5.14.0.4//NONSGML v1.0//EN
CALSCALE:GREGORIAN
METHOD:PUBLISH
X-WR-CALNAME:Balatonfüred Röplabda Akadémia
X-ORIGINAL-URL:https://szbbra.hu
X-WR-CALDESC:Events for Balatonfüred Röplabda Akadémia
REFRESH-INTERVAL;VALUE=DURATION:PT1H
X-Robots-Tag:noindex
X-PUBLISHED-TTL:PT1H
BEGIN:VTIMEZONE
TZID:Europe/Paris
BEGIN:DAYLIGHT
TZOFFSETFROM:+0100
TZOFFSETTO:+0200
TZNAME:CEST
DTSTART:20200329T010000
END:DAYLIGHT
BEGIN:STANDARD
TZOFFSETFROM:+0200
TZOFFSETTO:+0100
TZNAME:CET
DTSTART:20201025T010000
END:STANDARD
BEGIN:DAYLIGHT
TZOFFSETFROM:+0100
TZOFFSETTO:+0200
TZNAME:CEST
DTSTART:20210328T010000
END:DAYLIGHT
BEGIN:STANDARD
TZOFFSETFROM:+0200
TZOFFSETTO:+0100
TZNAME:CET
DTSTART:20211031T010000
END:STANDARD
BEGIN:DAYLIGHT
TZOFFSETFROM:+0100
TZOFFSETTO:+0200
TZNAME:CEST
DTSTART:20220327T010000
END:DAYLIGHT
BEGIN:STANDARD
TZOFFSETFROM:+0200
TZOFFSETTO:+0100
TZNAME:CET
DTSTART:20221030T010000
END:STANDARD
BEGIN:DAYLIGHT
TZOFFSETFROM:+0100
TZOFFSETTO:+0200
TZNAME:CEST
DTSTART:20230326T010000
END:DAYLIGHT
BEGIN:STANDARD
TZOFFSETFROM:+0200
TZOFFSETTO:+0100
TZNAME:CET
DTSTART:20231029T010000
END:STANDARD
END:VTIMEZONE
BEGIN:VEVENT
DTSTART;TZID=Europe/Paris:20230326T180000
DTEND;TZID=Europe/Paris:20230326T200000
DTSTAMP:20260420T115635
CREATED:20230325T141957Z
LAST-MODIFIED:20230325T142248Z
UID:13087-1679853600-1679860800@szbbra.hu
SUMMARY:Extraliga Negyeddöntő 2. mérkőzés
DESCRIPTION:2023. március 26. – án\, vasárnap 18 órától a felnőtt női Extraliga játékosai  a negyeddöntő második mérkőzésén az Újpest ellenfeleként lépnek pályára idegenben. \nHelyszín: UTE Röplabda Csarnok (Budapest\, Szilágyi utca 30.) \nHajrá Füred!
URL:https://szbbra.hu/event/extraliga-negyeddonto-2-merkozes/
CATEGORIES:Felnőtt
ATTACH;FMTTYPE=image/jpeg:https://szbbra.hu/wp-content/uploads/2023/03/337269138_191184466974354_7365937819179911504_n.jpg
END:VEVENT
BEGIN:VEVENT
DTSTART;VALUE=DATE:20230326
DTEND;VALUE=DATE:20230327
DTSTAMP:20260420T115635
CREATED:20230124T094503Z
LAST-MODIFIED:20230124T094506Z
UID:11548-1679788800-1679875199@szbbra.hu
SUMMARY:Leány U20 II. osztály 10. forduló
DESCRIPTION:2023. március 26. -án\, vasárnap U20 Kék csapatunk a középszakasz 10. fordulójában a Pécs illetve a Tatabánya U20-as korosztályával csapnak össze\, Pécsett. \n11:00 PTE-PEAC – A  – SZBRA Kék \n13:00 SZBRA Kék – TRSE \nHelyszín: Pécsi Kodály Zoltán Gimnázium Sportcsarnoka (Pécs\, Névtelen utca 2.) \nHajrá Füred!
URL:https://szbbra.hu/event/leany-u20-ii-osztaly-10-fordulo/
CATEGORIES:U20
ATTACH;FMTTYPE=image/jpeg:https://szbbra.hu/wp-content/uploads/2022/12/u20-kek.jpg
END:VEVENT
BEGIN:VEVENT
DTSTART;TZID=Europe/Paris:20230325T143000
DTEND;TZID=Europe/Paris:20230325T163000
DTSTAMP:20260420T115635
CREATED:20220928T121725Z
LAST-MODIFIED:20230325T141516Z
UID:8257-1679754600-1679761800@szbbra.hu
SUMMARY:NB1 UTE vs SZBRA
DESCRIPTION:2023. március 26. – án\, vasárnap 13:00-tól a felnőtt női NB1 játékosai a tizennyolcadik fordulóban az Újpest ellen lépnek pályára\, idegenben. \nHelyszín: UTE Röplabda Csarnok (Budapest\, Szilágyi utca 30.) \nHajrá Füred!
URL:https://szbbra.hu/event/nb1-ute-vs-szbra/
CATEGORIES:NB1
ATTACH;FMTTYPE=image/jpeg:https://szbbra.hu/wp-content/uploads/2022/08/279457172_423609406432010_378245842736825236_n.jpg
END:VEVENT
BEGIN:VEVENT
DTSTART;VALUE=DATE:20230325
DTEND;VALUE=DATE:20230326
DTSTAMP:20260420T115635
CREATED:20230124T100157Z
LAST-MODIFIED:20230325T141631Z
UID:11581-1679702400-1679788799@szbbra.hu
SUMMARY:Leány U20 I. osztály 10. forduló
DESCRIPTION:2023. március 25. -én\, szmbaton U20 Piros csapatunk a középszakasz 10. fordulójában az UTE illetve a Szeged U20-as korosztályával csapnak össze\, Budapesten. \n11:00 UTE U20 Lila – SZBRA Piros \n13:00 SZBRA Piros – Szegedi RSE Narancs \nHelyszín: UTE Röplabda Csarnok (Budapest\, Szilágyi utca 30.) \nHajrá Füred!
URL:https://szbbra.hu/event/leany-u20-i-osztaly-10-fordulo/
CATEGORIES:U20
ATTACH;FMTTYPE=image/jpeg:https://szbbra.hu/wp-content/uploads/2022/12/u20piros.jpg
END:VEVENT
BEGIN:VEVENT
DTSTART;TZID=Europe/Paris:20230318T190000
DTEND;TZID=Europe/Paris:20230318T210000
DTSTAMP:20260420T115635
CREATED:20220928T121225Z
LAST-MODIFIED:20220928T121819Z
UID:8251-1679166000-1679173200@szbbra.hu
SUMMARY:NB1 Budaörs vs SZBRA
DESCRIPTION:2023. március 18. – án\, szombaton 19 órától a felnőtt női NB1 játékosai a tizenhetedik fordulóban a Budaörs ellen lépnek pályára\, idegenben. \nHelyszín: Illyés-Aramis Sportcsarnok (Budaörs\, Szabadság út 162.) \nHajrá Füred!
URL:https://szbbra.hu/event/nb1-budaors-vs-szbra/
LOCATION:ILLYÉS-ARAMIS SPORTCSARNOK BUDAÖRS SZABADSÁG ÚT 162.
CATEGORIES:NB1
ATTACH;FMTTYPE=image/jpeg:https://szbbra.hu/wp-content/uploads/2022/08/279457172_423609406432010_378245842736825236_n.jpg
END:VEVENT
BEGIN:VEVENT
DTSTART;TZID=Europe/Paris:20230304T160000
DTEND;TZID=Europe/Paris:20230304T180000
DTSTAMP:20260420T115635
CREATED:20220928T120859Z
LAST-MODIFIED:20220928T121846Z
UID:8245-1677945600-1677952800@szbbra.hu
SUMMARY:NB1 TFSE vs SZBRA
DESCRIPTION:2023. március 4. – én\, szombaton 16 órától a felnőtt női NB1 játékosai a tizenhatodik fordulóban a Jászberény ellen lépnek pályára\, idegenben. \nHelyszín: Magyar Testnevelési Egyetem “D” terem (Budapest\, Győri út 13.) \nHajrá Füred!
URL:https://szbbra.hu/event/nb1-tfse-vs-szbra/
LOCATION:Budapest\, Győri út 13.\, Budapest\, Magyarország
CATEGORIES:NB1
ATTACH;FMTTYPE=image/jpeg:https://szbbra.hu/wp-content/uploads/2022/08/279457172_423609406432010_378245842736825236_n.jpg
END:VEVENT
BEGIN:VEVENT
DTSTART;TZID=Europe/Paris:20230225T080000
DTEND;TZID=Europe/Paris:20230225T170000
DTSTAMP:20260420T115635
CREATED:20230124T094203Z
LAST-MODIFIED:20230124T094207Z
UID:11542-1677312000-1677344400@szbbra.hu
SUMMARY:Leány U20 II. osztály 9. forduló
DESCRIPTION:2023. február 25. -én\, szombaton U20 Kék csapatunk a középszakasz 9. fordulójában a Érd illetve a BVSC U20-as korosztályával csapnak össze\, Zuglóban. \n13:00 DELTA Röplabda SE – SZBRA Kék \n15:00 BVSC-Zugló – SZBRA Kék \nHelyszín: BVSC-Zugló Röplabda Csarnok (Budapest\, Szőnyi út 2.) \nHajrá Füred!
URL:https://szbbra.hu/event/leany-u20-ii-osztaly-9-fordulo/
LOCATION:Budapest\, Győri út 13.\, Budapest\, Magyarország
CATEGORIES:U20
ATTACH;FMTTYPE=image/jpeg:https://szbbra.hu/wp-content/uploads/2022/12/u20-kek.jpg
END:VEVENT
BEGIN:VEVENT
DTSTART;TZID=Europe/Paris:20230218T190000
DTEND;TZID=Europe/Paris:20230218T210000
DTSTAMP:20260420T115635
CREATED:20220928T120242Z
LAST-MODIFIED:20220928T121922Z
UID:8233-1676746800-1676754000@szbbra.hu
SUMMARY:NB1 DVTK vs SZBRA
DESCRIPTION:2023. február 18. – án\, szombaton 19 órától a felnőtt női NB1 játékosai a tizennegyedik fordulóban a Diósgyőr ellen lépnek pályára\, idegenben. \nHelyszín: DVTK Aréna (Miskolc\, Sportliget utca 5.) \nHajrá Füred!
URL:https://szbbra.hu/event/nb1-dvtk-vs-szbra/
LOCATION:Miskolc
CATEGORIES:NB1
ATTACH;FMTTYPE=image/jpeg:https://szbbra.hu/wp-content/uploads/2022/08/279457172_423609406432010_378245842736825236_n.jpg
END:VEVENT
BEGIN:VEVENT
DTSTART;TZID=Europe/Paris:20230212T170000
DTEND;TZID=Europe/Paris:20230212T190000
DTSTAMP:20260420T115635
CREATED:20220928T115904Z
LAST-MODIFIED:20220928T121949Z
UID:8227-1676221200-1676228400@szbbra.hu
SUMMARY:NB1 Vasas SC vs SZBRA
DESCRIPTION:2023. február 12. – én\, vasárnap 17 órától a felnőtt női NB1 játékosai a tizenharmadik fordulóban a Vasas SC ellen lépnek pályára\, idegenben. \nHelyszín: Vasas Folyondár jobb pálya (Budapest\, Folyondár utca 15.) \nHajrá Füred!
URL:https://szbbra.hu/event/nb1-vasas-sc-vs-szbra/
CATEGORIES:NB1
ATTACH;FMTTYPE=image/jpeg:https://szbbra.hu/wp-content/uploads/2022/09/1663055108545.jpg
END:VEVENT
BEGIN:VEVENT
DTSTART;VALUE=DATE:20230211
DTEND;VALUE=DATE:20230212
DTSTAMP:20260420T115635
CREATED:20230124T095436Z
LAST-MODIFIED:20230124T095441Z
UID:11569-1676073600-1676159999@szbbra.hu
SUMMARY:Leány U20 I. osztály 8. forduló
DESCRIPTION:2023. február 11. -én\, szombaton U20 Piros csapatunk a középszakasz 8. fordulójában a Budaörs illetve a Békéscsaba U20-as korosztályával csapnak össze\, Budaörsön. \n11:00 Budaörsi DSE-EMERICUS – SZBRA Piros \n13:00 SZBRA Piros – BRSE-Fehér \nHelyszín: Illyés Gyula Gimnázium (Budaörs\, Szabadság út 162.) \nHajrá Füred!
URL:https://szbbra.hu/event/leany-u20-i-osztaly-8-fordulo/
LOCATION:ILLYÉS-ARAMIS SPORTCSARNOK BUDAÖRS SZABADSÁG ÚT 162.
CATEGORIES:U20
ATTACH;FMTTYPE=image/jpeg:https://szbbra.hu/wp-content/uploads/2022/12/u20piros.jpg
END:VEVENT
BEGIN:VEVENT
DTSTART;TZID=Europe/Paris:20230203T180000
DTEND;TZID=Europe/Paris:20230203T200000
DTSTAMP:20260420T115635
CREATED:20220926T165832Z
LAST-MODIFIED:20221112T120746Z
UID:7994-1675447200-1675454400@szbbra.hu
SUMMARY:Extraliga KNRC vs SZBRA
DESCRIPTION:2023. február 3. – án\, pénteken 18 órától a felnőtt női Extraliga játékosai a tizenegyedik fordulóban a Kaposvári csapat ellen lépnek pályára\, idegenben. \nHelyszín: Kaposvár Aréna (Kaposvár\, Arany János utca 97.) \nHajrá Füred!
URL:https://szbbra.hu/event/extraliga-kaposvari-nrc-vs-szbra/
LOCATION:Kaposvár
CATEGORIES:Felnőtt
ATTACH;FMTTYPE=image/jpeg:https://szbbra.hu/wp-content/uploads/2022/09/k_0011-e1664211492373.jpg
END:VEVENT
BEGIN:VEVENT
DTSTART;VALUE=DATE:20230129
DTEND;VALUE=DATE:20230130
DTSTAMP:20260420T115635
CREATED:20230124T093138Z
LAST-MODIFIED:20230124T093145Z
UID:11527-1674950400-1675036799@szbbra.hu
SUMMARY:Leány U20 II. osztály 7.forduló
DESCRIPTION:2023. január 29. -én\, vasárnap U20 Kék csapatunk a középszakasz 7. fordulójában a Kaposvár illetve a Veszprém U20-as korosztályával csapnak össze\, Kaposváron. \n10:00 KASI U20 – SZBRA Kék \n12:00 SZBRA Kék – VESC Fehér \nHelyszín: Városi Sportcsarnok (Kaposvár\, Arany János utca 97.) \nHajrá Füred!
URL:https://szbbra.hu/event/leany-u20-ii-osztaly-7-fordulo/
LOCATION:Kaposvár
CATEGORIES:U20
ATTACH;FMTTYPE=image/jpeg:https://szbbra.hu/wp-content/uploads/2022/12/316605446_2100255770170503_7589625625352483324_n.jpg
END:VEVENT
BEGIN:VEVENT
DTSTART;TZID=Europe/Paris:20230121T190000
DTEND;TZID=Europe/Paris:20230121T210000
DTSTAMP:20260420T115635
CREATED:20220926T164545Z
LAST-MODIFIED:20220926T164550Z
UID:7976-1674327600-1674334800@szbbra.hu
SUMMARY:Extraliga MTK vs SZBRA
DESCRIPTION:2023. január 21. – én\, szombaton 19 órától a felnőtt női Extraliga játékosai a kilencedik fordulóban az MTK ellen lépnek pályára\, idegenben. \nHelyszín: Illyés-Aramis Sportcsarnok (Budaörs\, Szabadság út 162.) \nHajrá Füred!
URL:https://szbbra.hu/event/extraliga-mtk-vs-szbra/
LOCATION:ILLYÉS-ARAMIS SPORTCSARNOK BUDAÖRS SZABADSÁG ÚT 162.
CATEGORIES:Felnőtt
ATTACH;FMTTYPE=image/jpeg:https://szbbra.hu/wp-content/uploads/2022/09/k_0005.jpg
END:VEVENT
BEGIN:VEVENT
DTSTART;TZID=Europe/Paris:20230115T180000
DTEND;TZID=Europe/Paris:20230115T200000
DTSTAMP:20260420T115635
CREATED:20220926T164107Z
LAST-MODIFIED:20220926T164112Z
UID:7964-1673805600-1673812800@szbbra.hu
SUMMARY:Extraliga MÁV-Előre vs SZBRA
DESCRIPTION:2023. január 15. – én\, vasárnap 18 órától a felnőtt női Extraliga játékosai a nyolcadik fordulóban\, az újévben először lépnek pályára idegenben\, a Székesfehérvár vendégeként. \nHelyszín: Videoton oktatási központ (Székesfehérvár\, Berényi út 101.) \nHajrá Füred!
URL:https://szbbra.hu/event/extraliga-mav-elore-vs-szbra/
LOCATION:Videoton oktatási központ – Székesfehérvár\, Berényi út 101.\, Székesfehérvár\, Fejér megye\, 8000\, Magyarország
CATEGORIES:Felnőtt
ATTACH;FMTTYPE=image/jpeg:https://szbbra.hu/wp-content/uploads/2022/09/siker-az-extra-ligban-20210426112047.jpg
END:VEVENT
BEGIN:VEVENT
DTSTART;TZID=Europe/Paris:20221218T140000
DTEND;TZID=Europe/Paris:20221218T160000
DTSTAMP:20260420T115635
CREATED:20220928T091420Z
LAST-MODIFIED:20220928T111501Z
UID:8170-1671372000-1671379200@szbbra.hu
SUMMARY:NB1 BRSE vs SZBRA
DESCRIPTION:2022. december 18. – án\, vasárnap 14 órától a felnőtt női NB1 játékosai a nyolcadik fordulóban a Békéscsaba ellen lépnek pályára\, vendég környezetben. \nHelyszín: Békéscsabai Városi Sportcsarnok (Békéscsaba\, Gyulai út 44..) \nHajrá Füred!
URL:https://szbbra.hu/event/nb1-brse-vs-szbra/
CATEGORIES:NB1
ATTACH;FMTTYPE=image/jpeg:https://szbbra.hu/wp-content/uploads/2022/08/279457172_423609406432010_378245842736825236_n.jpg
END:VEVENT
BEGIN:VEVENT
DTSTART;TZID=Europe/Paris:20221217T160000
DTEND;TZID=Europe/Paris:20221217T180000
DTSTAMP:20260420T115635
CREATED:20221108T123758Z
LAST-MODIFIED:20221108T123825Z
UID:9722-1671292800-1671300000@szbbra.hu
SUMMARY:Magyar Kupa Negyeddöntő 1/2
DESCRIPTION:2022. december 17. – én\, szombaton 16 órától a felnőtt női Extraliga játékosai a magyar kupa negyeddöntőjének második felvonásán a Kaposvári NRC csapata ellen lépnek pályára\, idegenben. \nSzeretettel várunk minden kedves szurkolót! \nHelyszín: Kaposvár\, Városi Sportcsarnok \n\n\n\n\n\nHAJRÁ Füred!
URL:https://szbbra.hu/event/magyar-kupa-negyeddonto-1-2/
LOCATION:Kaposvár
CATEGORIES:Felnőtt
ATTACH;FMTTYPE=image/jpeg:https://szbbra.hu/wp-content/uploads/2022/11/kupa.jpg
END:VEVENT
BEGIN:VEVENT
DTSTART;TZID=Europe/Paris:20221203T170000
DTEND;TZID=Europe/Paris:20221203T190000
DTSTAMP:20260420T115635
CREATED:20220926T163215Z
LAST-MODIFIED:20220926T163222Z
UID:7955-1670086800-1670094000@szbbra.hu
SUMMARY:Extraliga Vasas Óbuda vs SZBRA
DESCRIPTION:2022. december 3. – án\, szombaton 17 órától a felnőtt női Extraliga játékosai a hetedik fordulóban a Folyondár utcában lépnek pályára a Vasas ellenfeleként. \nHelyszín: Vasas Folyondár jobb pálya (Budapest\, Folyondár utca 15.) \nHajrá Füred!
URL:https://szbbra.hu/event/extraliga-vasas-obuda-vs-szbra/
CATEGORIES:Felnőtt
ATTACH;FMTTYPE=image/jpeg:https://szbbra.hu/wp-content/uploads/2022/09/k_0001-1-e1664209922840.jpg
END:VEVENT
BEGIN:VEVENT
DTSTART;TZID=Europe/Paris:20221124T180000
DTEND;TZID=Europe/Paris:20221124T200000
DTSTAMP:20260420T115635
CREATED:20220926T160250Z
LAST-MODIFIED:20220926T160254Z
UID:7938-1669312800-1669320000@szbbra.hu
SUMMARY:Extraliga FATUM vs SZBRA
DESCRIPTION:2022. november 24. – én\, csütörtökön 18 órától a felnőtt női Extraliga játékosai a hatodik fordulóban Nyíregyházán vendégszerepelnek. \nHelyszín: Continental Arena (Nyíregyháza\, Géza utca 8-16.) \nHajrá Füred!
URL:https://szbbra.hu/event/extraliga-fatum-vs-szbra/
LOCATION:Continental Aréna\, Nyíregyháza\, Géza utca 8-16.\, Nyíregyháza\, Szabolcs-Szatmár-Bereg\, 4400\, Magyarország
CATEGORIES:Felnőtt
ATTACH;FMTTYPE=image/jpeg:https://szbbra.hu/wp-content/uploads/2022/09/k_0010-e1664208156534.jpg
END:VEVENT
BEGIN:VEVENT
DTSTART;VALUE=DATE:20221120
DTEND;VALUE=DATE:20221121
DTSTAMP:20260420T115635
CREATED:20221108T122632Z
LAST-MODIFIED:20221108T122632Z
UID:9707-1668902400-1668988799@szbbra.hu
SUMMARY:Szalayné Sebők Éva U17 OSB II. o. NY 4. forduló
DESCRIPTION:2022. november 20. -án\, vasárnap U17 Kék csapatunk az alapszakasz 4. fordulójában a Közgáz illetve az Emericus U17-es korosztályával csapnak össze Budapesten. \n12:00 Közgáz U17 ‘A’ – SZBRA Kék \n14:00 SZBRA Kék- Emericus ‘A’ \nHelyszín: BUDAI CISZTERCI SZENT IMRE GIMNÁZIUM  (Budapest\, Villányi út 27.) \nHajrá Füred!
URL:https://szbbra.hu/event/szalayne-sebok-eva-u17-osb-ii-o-ny-4-fordulo/
LOCATION:Budapest\, Győri út 13.\, Budapest\, Magyarország
CATEGORIES:U17
ATTACH;FMTTYPE=image/jpeg:https://szbbra.hu/wp-content/uploads/2022/11/u17kek.jpg
END:VEVENT
BEGIN:VEVENT
DTSTART;TZID=Europe/Paris:20221119T160000
DTEND;TZID=Europe/Paris:20221119T180000
DTSTAMP:20260420T115635
CREATED:20220928T090223Z
LAST-MODIFIED:20220928T090223Z
UID:8143-1668873600-1668880800@szbbra.hu
SUMMARY:NB1 VEHIR-VESC vs SZBRA
DESCRIPTION:2022. november 19. – én\, szombaton 16 órától a felnőtt női NB1 játékosai a negyedik fordulóban a Veszprém ellen lépnek pályára\, idegenben. \nHelyszín: Veszprémi SZC Táncsics Mihály Szakgimnázium (Veszprém\, Eötvös Károly utca 1.) \nHajrá Füred!
URL:https://szbbra.hu/event/nb1-vehir-vesc-vs-szbra/
LOCATION:Veszprém
CATEGORIES:NB1
ATTACH;FMTTYPE=image/jpeg:https://szbbra.hu/wp-content/uploads/2022/08/279457172_423609406432010_378245842736825236_n.jpg
END:VEVENT
BEGIN:VEVENT
DTSTART;VALUE=DATE:20221119
DTEND;VALUE=DATE:20221120
DTSTAMP:20260420T115635
CREATED:20221108T121314Z
LAST-MODIFIED:20221108T121314Z
UID:9692-1668816000-1668902399@szbbra.hu
SUMMARY:Leány U13 II. osztály Nyugat 4. forduló
DESCRIPTION:2022. november 19. -én\, szombaton U13 – mas csapatunk az alapszakasz 4. fordulójában a Veszprém illetve az ÉDRA-Tata U13-mas korosztályával csapnak össze Veszprémben. \n10:00 VESC – SZBRA \n11:30 SZBRA – ÉDRA-Tata \n13:00 ÉDRA-Tata – VESC \nHelyszín: EGYETEMI TORNACSARNOK  (Veszprém\, Egyetem utca 10.) \n  \nHajrá Füred!
URL:https://szbbra.hu/event/leany-u13-ii-osztaly-nyugat-4-fordulo/
LOCATION:Veszprém
CATEGORIES:U13
ATTACH;FMTTYPE=image/jpeg:https://szbbra.hu/wp-content/uploads/2022/11/u13.jpg
END:VEVENT
BEGIN:VEVENT
DTSTART;VALUE=DATE:20221113
DTEND;VALUE=DATE:20221114
DTSTAMP:20260420T115635
CREATED:20220928T083621Z
LAST-MODIFIED:20220928T084234Z
UID:8122-1668297600-1668383999@szbbra.hu
SUMMARY:Leány U20 II. osztály Ny alapszakasz 4. forduló
DESCRIPTION:2022. november 13. -án\, vasárnap U20 Kék csapatunk az alapszakasz 4. fordulójában a Pécs illetve a Székesfehérvár U20-as korosztályával csapnak össze Pécsett. \n11:00 PTE-PEAC A – SZBRA Kék \n12:30 SZBRA Kék- ÉDRA-MÁV Előre Akadémia A \nHelyszín: Pécsi Kodály Zoltán Gimnázium Sportcsarnoka (Pécs\, Névtelen utca 2.) \nHajrá Füred!
URL:https://szbbra.hu/event/leany-u20-ii-osztaly-ny-alapszakasz-4-fordulo/
CATEGORIES:U20
ATTACH;FMTTYPE=image/jpeg:https://szbbra.hu/wp-content/uploads/2022/09/img_8941.jpg
END:VEVENT
BEGIN:VEVENT
DTSTART;VALUE=DATE:20221113
DTEND;VALUE=DATE:20221114
DTSTAMP:20260420T115635
CREATED:20220926T173439Z
LAST-MODIFIED:20220926T173602Z
UID:8051-1668297600-1668383999@szbbra.hu
SUMMARY:Leány U20 I. osztály alapszakasz 4. forduló
DESCRIPTION:2022. november 13. -án\, vasárnap U20 Piros csapatunk az alapszakasz 4. fordulójában az MTK illetve a Szeged U20-as korosztályával csapnak össze Budapesten. \n11:00 MTK – SZBRA Piros \n12:30 SZBRA Piros – Szegedi RSE Narancs \nHelyszín: MTK Röplabda csarnok (Budapest\, Szamos utca 2.) \n  \nHajrá Füred!
URL:https://szbbra.hu/event/leany-u20-i-osztaly-alapszakasz-4-fordulo/
CATEGORIES:U20
ATTACH;FMTTYPE=image/jpeg:https://szbbra.hu/wp-content/uploads/2022/09/308278491_463558825794299_4201394855936575105_n-1024x473-1-e1664213073265.jpg
END:VEVENT
BEGIN:VEVENT
DTSTART;TZID=Europe/Paris:20221103T160000
DTEND;TZID=Europe/Paris:20221103T180000
DTSTAMP:20260420T115635
CREATED:20220928T085934Z
LAST-MODIFIED:20220928T085940Z
UID:8134-1667491200-1667498400@szbbra.hu
SUMMARY:NB1 Jászberény vs SZBRA
DESCRIPTION:2022. november 3. – án\, csütörtökön 17 órától a felnőtt női NB1 játékosai a harmadik fordulóban a Jászberény ellen lépnek pályára\, Jászberényben. \nHelyszín: Bercsényi úti játékcsarnok (Jászberény\, Bercsényi út 11.) \nHajrá Füred!
URL:https://szbbra.hu/event/nb1-jaszbereny-vs-szbra/
LOCATION:Jászberény\, Bercsényi út 11\, Jászberény\, 5100\, Magyarország
CATEGORIES:NB1
ATTACH;FMTTYPE=image/jpeg:https://szbbra.hu/wp-content/uploads/2022/08/279457172_423609406432010_378245842736825236_n.jpg
END:VEVENT
BEGIN:VEVENT
DTSTART;TZID=Europe/Paris:20221029T180000
DTEND;TZID=Europe/Paris:20221029T200000
DTSTAMP:20260420T115635
CREATED:20220926T121915Z
LAST-MODIFIED:20220926T121924Z
UID:7885-1667066400-1667073600@szbbra.hu
SUMMARY:Extraliga BRSE vs SZBRA
DESCRIPTION:2022. október 29. – én\, szombaton 18 órától a felnőtt női Extraliga játékosai a második fordulóban a Békéscsaba ellenfeleként lépnek pályára\, idegenben. \nHelyszín: Békéscsabai Városi Sportcsarnok (Békéscsaba\, Gyulai út 44.) \nHajrá Füred!
URL:https://szbbra.hu/event/extraliga-brse-vs-szbra/
CATEGORIES:Felnőtt
ATTACH;FMTTYPE=image/jpeg:https://szbbra.hu/wp-content/uploads/2022/09/k_0009-e1664194744913.jpg
END:VEVENT
BEGIN:VEVENT
DTSTART;TZID=Europe/Paris:20221022T190000
DTEND;TZID=Europe/Paris:20221022T210000
DTSTAMP:20260420T115635
CREATED:20220926T121242Z
LAST-MODIFIED:20220926T121247Z
UID:7879-1666465200-1666472400@szbbra.hu
SUMMARY:Extraliga UTE vs SZBRA
DESCRIPTION:2022. október 22. – én\, szombaton 19 órától a felnőtt női Extraliga játékosai megkezdik a szezont\, és az első fordulóban az Újpest ellenfeleként lépnek pályára idegenben. \nHelyszín: UTE Röplabda Csarnok (Budapest\, Szilágyi utca 30.) \nHajrá Füred!
URL:https://szbbra.hu/event/extraliga-ute-vs-szbra/
CATEGORIES:Felnőtt
ATTACH;FMTTYPE=image/jpeg:https://szbbra.hu/wp-content/uploads/2022/05/1651681734691.jpg
END:VEVENT
BEGIN:VEVENT
DTSTART;VALUE=DATE:20221022
DTEND;VALUE=DATE:20221023
DTSTAMP:20260420T115635
CREATED:20220926T173156Z
LAST-MODIFIED:20220926T173202Z
UID:8042-1666396800-1666483199@szbbra.hu
SUMMARY:Leány U20 I. osztály alapszakasz 3. forduló
DESCRIPTION:2022. október 22. -én\, szombaton U20 Piros csapatunk az alapszakasz 3. fordulójában a Budaörs illetve a BRSE U20-as korosztályával csapnak össze Békéscsabán. \n12:30 Budaörsi DSE-Emericus – SZBRA Piros \n14:00 BRSE-Fehér – SZBRA Piros \nHelyszín: Békéscsabai Röplabda Akadémia (Békéscsaba\, Dobozi út 1.) \n  \nHajrá Füred!
URL:https://szbbra.hu/event/leany-u20-i-osztaly-alapszakasz-3-fordulo/
LOCATION:Békéscsaba UP Röplabda\, Dobozi út 1.\, Békéscsaba\, Békés\, 5600\, Magyarország
CATEGORIES:U20
ATTACH;FMTTYPE=image/jpeg:https://szbbra.hu/wp-content/uploads/2022/09/308278491_463558825794299_4201394855936575105_n-1024x473-1-e1664213073265.jpg
END:VEVENT
BEGIN:VEVENT
DTSTART;TZID=Europe/Paris:20221016T170000
DTEND;TZID=Europe/Paris:20221016T190000
DTSTAMP:20260420T115635
CREATED:20220919T122903Z
LAST-MODIFIED:20220919T122919Z
UID:7738-1665939600-1665946800@szbbra.hu
SUMMARY:NB1 Gödöllő vs SZBRA
DESCRIPTION:2022. október 16. – án\, vasárnap 17 órától a felnőtt női NB1 játékosai megkezdik a szezont\, és az első fordulóban a Gödöllő ellenfeleként lépnek pályára idegenben. \nHelyszín: MONOR VÁROSI SPORTCSARNOK (Monor\, Balassi Bálint utca 25.) \nHajrá Füred!
URL:https://szbbra.hu/event/nb1-godollo-vs-szbra/
LOCATION:Monor\, Városi Sportcsarnok\, Balassi Bálint utca 25\,\, Monor\, 2200\, Magyarország
CATEGORIES:NB1
ATTACH;FMTTYPE=image/jpeg:https://szbbra.hu/wp-content/uploads/2022/08/279457172_423609406432010_378245842736825236_n.jpg
END:VEVENT
BEGIN:VEVENT
DTSTART;VALUE=DATE:20221008
DTEND;VALUE=DATE:20221009
DTSTAMP:20260420T115635
CREATED:20220926T172447Z
LAST-MODIFIED:20220926T172807Z
UID:8033-1665187200-1665273599@szbbra.hu
SUMMARY:Leány U20 I. osztály alapszakasz 2. forduló
DESCRIPTION:2022. október 8. -án\, szombaton U20 Piros csapatunk az alapszakasz 2. fordulójában a Gödöllő illetve az UTE U20-as korosztályával csapnak össze Budapesten. \n12:30 Gödöllői Röplabda Klub – SZBRA Piros \n14:00 UTE U20 Lila – SZBRA Piros \nHelyszín: UTE Röplabda Csarnok (Budapest\, Szilágyi utca 30.) \n  \nHajrá Füred!
URL:https://szbbra.hu/event/leany-u20-i-osztaly-alapszakasz-2-fordulo/
CATEGORIES:U20
ATTACH;FMTTYPE=image/jpeg:https://szbbra.hu/wp-content/uploads/2022/09/308278491_463558825794299_4201394855936575105_n-1024x473-1-e1664213073265.jpg
END:VEVENT
BEGIN:VEVENT
DTSTART;TZID=Europe/Paris:20200321T160000
DTEND;TZID=Europe/Paris:20200321T180000
DTSTAMP:20260420T115635
CREATED:20200302T130321Z
LAST-MODIFIED:20200302T130321Z
UID:2661-1584806400-1584813600@szbbra.hu
SUMMARY:Máv Előre-BERICAP - SZBRA
DESCRIPTION:
URL:https://szbbra.hu/event/mav-elore-bericap-szbra/
LOCATION:Székesfehérvár\, Székesfehérvár
CATEGORIES:Felnőtt
END:VEVENT
END:VCALENDAR