BEGIN:VCALENDAR
VERSION:2.0
PRODID:-//Balatonfüred Röplabda Akadémia - ECPv5.14.0.4//NONSGML v1.0//EN
CALSCALE:GREGORIAN
METHOD:PUBLISH
X-WR-CALNAME:Balatonfüred Röplabda Akadémia
X-ORIGINAL-URL:https://szbbra.hu
X-WR-CALDESC:Events for Balatonfüred Röplabda Akadémia
REFRESH-INTERVAL;VALUE=DURATION:PT1H
X-Robots-Tag:noindex
X-PUBLISHED-TTL:PT1H
BEGIN:VTIMEZONE
TZID:Europe/Paris
BEGIN:DAYLIGHT
TZOFFSETFROM:+0100
TZOFFSETTO:+0200
TZNAME:CEST
DTSTART:20220327T010000
END:DAYLIGHT
BEGIN:STANDARD
TZOFFSETFROM:+0200
TZOFFSETTO:+0100
TZNAME:CET
DTSTART:20221030T010000
END:STANDARD
BEGIN:DAYLIGHT
TZOFFSETFROM:+0100
TZOFFSETTO:+0200
TZNAME:CEST
DTSTART:20230326T010000
END:DAYLIGHT
BEGIN:STANDARD
TZOFFSETFROM:+0200
TZOFFSETTO:+0100
TZNAME:CET
DTSTART:20231029T010000
END:STANDARD
END:VTIMEZONE
BEGIN:VEVENT
DTSTART;VALUE=DATE:20230415
DTEND;VALUE=DATE:20230416
DTSTAMP:20260420T115702
CREATED:20230124T094651Z
LAST-MODIFIED:20230124T094659Z
UID:11554-1681516800-1681603199@szbbra.hu
SUMMARY:Leány U20 II. osztály 11. forduló
DESCRIPTION:2023. április 15. -én\, szombaton U20 Kék csapatunk a középszakasz 11. fordulójában a Veszprém illetve a Kaposvár U20-as korosztályával csapnak össze hazai környezetben. \n11:00 SZBRA Kék – VESC Fehér \n15:00 SZBRA Kék – KASI U20 \nHelyszín: Szent Benedek Gimnázium (Balatonfüred\, Hősök tere 1.) \nParkolási lehetőség az Arácsi útról lehetséges\, a zöld kapunál. \nHajrá Füred!
URL:https://szbbra.hu/event/leany-u20-ii-osztaly-11-fordulo/
LOCATION:Szent Benedek-Balatonfüred RA\, Hősök tere 1.\, Balatonfüred\, Veszprém\, 8230\, Magyarország
CATEGORIES:U20
ATTACH;FMTTYPE=image/jpeg:https://szbbra.hu/wp-content/uploads/2022/12/u20-kek.jpg
END:VEVENT
BEGIN:VEVENT
DTSTART;TZID=Europe/Paris:20230401T160000
DTEND;TZID=Europe/Paris:20230401T180000
DTSTAMP:20260420T115702
CREATED:20220928T122233Z
LAST-MODIFIED:20220928T122237Z
UID:8263-1680364800-1680372000@szbbra.hu
SUMMARY:NB1 SZBRA vs BRSE
DESCRIPTION:2023. április 1. – én\, szombaton 16 órától a felnőtt női NB1 játékosai a tizenkilencedik fordulóban a Békéscsaba ellen lépnek pályára\, hazai környezetben. \nSzeretettel várunk minden kedves szurkolót! \nHelyszín: Szent Benedek Gimnázium (Balatonfüred\, Hősök tere 1.) parkolási lehetőség és bejutás az Arácsi út felől. \nHajrá Füred!
URL:https://szbbra.hu/event/nb1-szbra-vs-brse/
LOCATION:Szent Benedek-Balatonfüred RA\, Hősök tere 1.\, Balatonfüred\, Veszprém\, 8230\, Magyarország
CATEGORIES:NB1
ATTACH;FMTTYPE=image/jpeg:https://szbbra.hu/wp-content/uploads/2022/09/1663055108545.jpg
END:VEVENT
BEGIN:VEVENT
DTSTART;TZID=Europe/Paris:20230329T180000
DTEND;TZID=Europe/Paris:20230329T200000
DTSTAMP:20260420T115702
CREATED:20230325T142043Z
LAST-MODIFIED:20230325T142355Z
UID:13096-1680112800-1680120000@szbbra.hu
SUMMARY:Extraliga Negyeddöntő 3. mérkőzés
DESCRIPTION:2023. március 29. – én\, szerdán 18 órától a felnőtt női Extraliga játékosai  a negyeddöntő harmadik mérkőzésén az Újpest ellenfeleként lépnek pályára hazai környezetben! \nHelyszín: Balaton Szabadidő -és Konferencia központ (Balatonfüred\, Horváth Mihály utca 64.) \nHajrá Füred!
URL:https://szbbra.hu/event/extraliga-negyeddonto-3-merkozes/
LOCATION:Balaton Szabadidő- és Konferenciaközpont\, Horváth Mihály u 64.\, Balatonfüred\, Veszprém\, 8230\, Magyarország
CATEGORIES:Felnőtt
ATTACH;FMTTYPE=image/jpeg:https://szbbra.hu/wp-content/uploads/2023/03/1679594754956.jpg
END:VEVENT
BEGIN:VEVENT
DTSTART;VALUE=DATE:20230225
DTEND;VALUE=DATE:20230226
DTSTAMP:20260420T115702
CREATED:20230124T095704Z
LAST-MODIFIED:20230124T095736Z
UID:11575-1677283200-1677369599@szbbra.hu
SUMMARY:Leány U20 I. osztály 9. forduló
DESCRIPTION:2023. február 25. -én\, szombaton U20 Piros csapatunk a középszakasz 9. fordulójában az MTK illetve a Nyiregyháza U20-as korosztályával csapnak össze hazai környezetben. \n11:00 SZBRA Piros – MTK \n15:00 SZBRA Piros – Nyiregyháza \nHelyszín: Szent Benedek Gimnázium (Balatonfüred\, Hősök tere 1.) \nParkolási lehetőség az Arácsi útról lehetséges\, a zöld kapunál. \nHajrá Füred!
URL:https://szbbra.hu/event/leany-u20-i-osztaly-9-fordulo/
LOCATION:Szent Benedek-Balatonfüred RA\, Hősök tere 1.\, Balatonfüred\, Veszprém\, 8230\, Magyarország
CATEGORIES:U20
ATTACH;FMTTYPE=image/jpeg:https://szbbra.hu/wp-content/uploads/2022/12/u20piros.jpg
END:VEVENT
BEGIN:VEVENT
DTSTART;TZID=Europe/Paris:20230224T180000
DTEND;TZID=Europe/Paris:20230224T200000
DTSTAMP:20260420T115702
CREATED:20220926T170911Z
LAST-MODIFIED:20220926T170915Z
UID:8021-1677261600-1677268800@szbbra.hu
SUMMARY:Extraliga SZBRA vs Vasas Óbuda
DESCRIPTION:2023. február 24. – én\, pénteken 18 órától a felnőtt női Extraliga játékosai a tizennegyedik fordulóban hazai pályán fogadják a Vasas Óbuda csapatát. \nSzeretettel várunk minden kedves szurkolót! \nHelyszín: Balaton Szabadidő -és Konferencia Központ (Balatonfüred\, Horváth Mihály utca 64.) \nHajrá Füred!
URL:https://szbbra.hu/event/extraliga-szbra-vs-vasas-obuda/
LOCATION:Balaton Szabadidő- és Konferenciaközpont\, Horváth Mihály u 64.\, Balatonfüred\, Veszprém\, 8230\, Magyarország
CATEGORIES:Felnőtt
ATTACH;FMTTYPE=image/jpeg:https://szbbra.hu/wp-content/uploads/2022/09/k_0007-1-e1667552830144.jpg
END:VEVENT
BEGIN:VEVENT
DTSTART;TZID=Europe/Paris:20230222T190000
DTEND;TZID=Europe/Paris:20230222T210000
DTSTAMP:20260420T115702
CREATED:20220928T120507Z
LAST-MODIFIED:20220928T120512Z
UID:8239-1677092400-1677099600@szbbra.hu
SUMMARY:NB1 SZBRA vs Gödöllő
DESCRIPTION:2023. február 22. – én\, szerdán 19 órától a felnőtt női NB1 játékosai a tizenötödik fordulóban a Gödöllő ellen lépnek pályára\, hazai környezetben. \nSzeretettel várunk minden kedves szurkolót! \nHelyszín: Szent Benedek Gimnázium (Balatonfüred\, Hősök tere 1.) parkolási lehetőség és bejutás az Arácsi út felől. \nHajrá Füred!
URL:https://szbbra.hu/event/nb1-szbra-vs-godollo/
LOCATION:Szent Benedek-Balatonfüred RA\, Hősök tere 1.\, Balatonfüred\, Veszprém\, 8230\, Magyarország
CATEGORIES:NB1
ATTACH;FMTTYPE=image/jpeg:https://szbbra.hu/wp-content/uploads/2022/09/1663055108545.jpg
END:VEVENT
BEGIN:VEVENT
DTSTART;TZID=Europe/Paris:20230217T180000
DTEND;TZID=Europe/Paris:20230217T200000
DTSTAMP:20260420T115702
CREATED:20220926T170645Z
LAST-MODIFIED:20220926T170649Z
UID:8012-1676656800-1676664000@szbbra.hu
SUMMARY:Extraliga SZBRA vs FATUM
DESCRIPTION:2023. február 17. – én\, pénteken 18 órától a felnőtt női Extraliga játékosai a tizenharmadik fordulóban hazai pályán fogadják a FATUM-Nyíregyháza csapatát. \nSzeretettel várunk minden kedves szurkolót! \nHelyszín: Balaton Szabadidő -és Konferencia Központ (Balatonfüred\, Horváth Mihály utca 64.) \nHajrá Füred!
URL:https://szbbra.hu/event/extraliga-szbra-vs-fatum/
LOCATION:Balaton Szabadidő- és Konferenciaközpont\, Horváth Mihály u 64.\, Balatonfüred\, Veszprém\, 8230\, Magyarország
CATEGORIES:Felnőtt
ATTACH;FMTTYPE=image/jpeg:https://szbbra.hu/wp-content/uploads/2022/09/k_0004-1-e1664211986792.jpg
END:VEVENT
BEGIN:VEVENT
DTSTART;VALUE=DATE:20230211
DTEND;VALUE=DATE:20230212
DTSTAMP:20260420T115702
CREATED:20230124T093414Z
LAST-MODIFIED:20230124T093419Z
UID:11536-1676073600-1676159999@szbbra.hu
SUMMARY:Leány U20 II. osztály 8. forduló
DESCRIPTION:2023. február 11. -én\, szombaton U20 Kék csapatunk a középszakasz 8. fordulójában a Székesfehérvár illetve a Haladás U20-as korosztályával csapnak össze hazai környezetben. \n11:00 SZBRA Kék- ÉDRA-MÁV Előre Akadémia A \n15:00 SZBRA Kék – Haladás VSE-SZOSI \nHelyszín: Szent Benedek Gimnázium (Balatonfüred\, Hősök tere 1.) \nParkolási lehetőség az Arácsi útról lehetséges\, a zöld kapunál. \nHajrá Füred!
URL:https://szbbra.hu/event/leany-u20-ii-osztaly-8-fordulo/
LOCATION:Szent Benedek-Balatonfüred RA\, Hősök tere 1.\, Balatonfüred\, Veszprém\, 8230\, Magyarország
CATEGORIES:U20
ATTACH;FMTTYPE=image/jpeg:https://szbbra.hu/wp-content/uploads/2022/12/u20-kek.jpg
END:VEVENT
BEGIN:VEVENT
DTSTART;TZID=Europe/Paris:20230210T180000
DTEND;TZID=Europe/Paris:20230210T200000
DTSTAMP:20260420T115702
CREATED:20220926T170346Z
LAST-MODIFIED:20220926T170351Z
UID:8003-1676052000-1676059200@szbbra.hu
SUMMARY:Extraliga SZBRA vs UTE
DESCRIPTION:2023. február 10. – én\, pénteken 18 órától a felnőtt női Extraliga játékosai a tizenkettedik fordulóban hazai pályán fogadják az Újpest csapatát. \nSzeretettel várunk minden kedves szurkolót! \nHelyszín: Balaton Szabadidő -és Konferencia Központ (Balatonfüred\, Horváth Mihály utca 64.) \nHajrá Füred!
URL:https://szbbra.hu/event/extraliga-szbra-vs-ute/
LOCATION:Balaton Szabadidő- és Konferenciaközpont\, Horváth Mihály u 64.\, Balatonfüred\, Veszprém\, 8230\, Magyarország
CATEGORIES:Felnőtt
ATTACH;FMTTYPE=image/jpeg:https://szbbra.hu/wp-content/uploads/2022/09/k_0008-e1664211816609.jpg
END:VEVENT
BEGIN:VEVENT
DTSTART;TZID=Europe/Paris:20230205T180000
DTEND;TZID=Europe/Paris:20230205T200000
DTSTAMP:20260420T115702
CREATED:20220928T115606Z
LAST-MODIFIED:20220928T115617Z
UID:8215-1675620000-1675627200@szbbra.hu
SUMMARY:NB1 SZBRA vs BVSC-Zugló
DESCRIPTION:2023. február 5. – én\, vasárnap 18 órától a felnőtt női NB1 játékosai a tizenkettedik fordulóban a BVSC Zugló ellen lépnek pályára\, hazai környezetben. \nSzeretettel várunk minden kedves szurkolót! \nHelyszín: Szent Benedek Gimnázium (Balatonfüred\, Hősök tere 1.) parkolási lehetőség és bejutás az Arácsi út felől. \nHajrá Füred!
URL:https://szbbra.hu/event/nb1-szbra-vs-bvsc-zuglo/
LOCATION:Szent Benedek-Balatonfüred RA\, Hősök tere 1.\, Balatonfüred\, Veszprém\, 8230\, Magyarország
CATEGORIES:NB1
ATTACH;FMTTYPE=image/jpeg:https://szbbra.hu/wp-content/uploads/2022/09/1663055108545.jpg
END:VEVENT
BEGIN:VEVENT
DTSTART;VALUE=DATE:20230129
DTEND;VALUE=DATE:20230130
DTSTAMP:20260420T115702
CREATED:20230124T092608Z
LAST-MODIFIED:20230124T092613Z
UID:11521-1674950400-1675036799@szbbra.hu
SUMMARY:Leány U20 I. osztály 7. forduló
DESCRIPTION:2023. január 29. -én\, vasárnap U20 Piros csapatunk a középszakasz 7. fordulójában a Vasas illetve a Gödöllő U20-as korosztályával csapnak össze hazai környezetben. \n11:00 SZBRA Piros – Vasas SC U20 \n15:00 SZBRA Piros – Gödöllői Röplabda Club \nHelyszín: Szent Benedek Gimnázium (Balatonfüred\, Hősök tere 1.) \nParkolási lehetőség az Arácsi útról lehetséges\, a zöld kapunál. \nHajrá Füred!
URL:https://szbbra.hu/event/leany-u20-i-osztaly-7-fordulo/
LOCATION:Szent Benedek-Balatonfüred RA\, Hősök tere 1.\, Balatonfüred\, Veszprém\, 8230\, Magyarország
CATEGORIES:U20
ATTACH;FMTTYPE=image/jpeg:https://szbbra.hu/wp-content/uploads/2022/12/u20piros.jpg
END:VEVENT
BEGIN:VEVENT
DTSTART;TZID=Europe/Paris:20230128T170000
DTEND;TZID=Europe/Paris:20230128T190000
DTSTAMP:20260420T115702
CREATED:20220926T164951Z
LAST-MODIFIED:20220926T165209Z
UID:7985-1674925200-1674932400@szbbra.hu
SUMMARY:Extraliga SZBRA vs BRSE
DESCRIPTION:2023. január 28. – án\, szombaton 17 órától a felnőtt női Extraliga játékosai a tizedik fordulóban a Békéscsaba gárdáját fogadja hazai pályán! \nSzeretettel várunk minden kedves szurkolót a lelátóra! \nHelyszín: Balaton Szabadidő -és Konferencia Központ (Balatonfüred\, Horváth Mihály utca 64.) \nHajrá Füred!
URL:https://szbbra.hu/event/extraliga-szbra-vs-brse/
LOCATION:Balaton Szabadidő- és Konferenciaközpont\, Horváth Mihály u 64.\, Balatonfüred\, Veszprém\, 8230\, Magyarország
CATEGORIES:Felnőtt
ATTACH;FMTTYPE=image/jpeg:https://szbbra.hu/wp-content/uploads/2022/09/k_0002-e1664210980134.jpg
END:VEVENT
BEGIN:VEVENT
DTSTART;TZID=Europe/Paris:20230120T190000
DTEND;TZID=Europe/Paris:20230120T210000
DTSTAMP:20260420T115702
CREATED:20220928T115201Z
LAST-MODIFIED:20220928T115209Z
UID:8200-1674241200-1674248400@szbbra.hu
SUMMARY:NB1 SZBRA vs Jászberény
DESCRIPTION:2023. január 20. – án\, pénteken 19 órától a felnőtt női NB1 játékosai a tizenegyedik fordulóban a Jászberény ellen lépnek pályára\, hazai környezetben. \nSzeretettel várunk minden kedves szurkolót! \nHelyszín: Szent Benedek Gimnázium (Balatonfüred\, Hősök tere 1.) parkolási lehetőség és bejutás az Arácsi út felől. \nHajrá Füred!
URL:https://szbbra.hu/event/nb1-szbra-vs-jaszbereny/
LOCATION:Szent Benedek-Balatonfüred RA\, Hősök tere 1.\, Balatonfüred\, Veszprém\, 8230\, Magyarország
CATEGORIES:NB1
ATTACH;FMTTYPE=image/jpeg:https://szbbra.hu/wp-content/uploads/2022/09/1663055108545.jpg
END:VEVENT
BEGIN:VEVENT
DTSTART;TZID=Europe/Paris:20230111T190000
DTEND;TZID=Europe/Paris:20230111T210000
DTSTAMP:20260420T115702
CREATED:20220928T114920Z
LAST-MODIFIED:20220928T115243Z
UID:8194-1673463600-1673470800@szbbra.hu
SUMMARY:NB1 SZBRA vs VESC
DESCRIPTION:2023. január 11. – én\, szerdán 19 órától a felnőtt női NB1 játékosai a tizedik fordulóban a Veszprém ellen lépnek pályára\, hazai környezetben. \nSzeretettel várunk minden kedves szurkolót! \nHelyszín: Szent Benedek Gimnázium (Balatonfüred\, Hősök tere 1.) parkolási lehetőség és bejutás az Arácsi út felől. \nHajrá Füred!
URL:https://szbbra.hu/event/nb1-szbra-vs-vesc/
LOCATION:Szent Benedek-Balatonfüred RA\, Hősök tere 1.\, Balatonfüred\, Veszprém\, 8230\, Magyarország
CATEGORIES:NB1
ATTACH;FMTTYPE=image/jpeg:https://szbbra.hu/wp-content/uploads/2022/09/1663055108545.jpg
END:VEVENT
BEGIN:VEVENT
DTSTART;TZID=Europe/Paris:20230107T160000
DTEND;TZID=Europe/Paris:20230107T180000
DTSTAMP:20260420T115702
CREATED:20220928T114213Z
LAST-MODIFIED:20220928T115306Z
UID:8185-1673107200-1673114400@szbbra.hu
SUMMARY:NB1 SZBRA vs DSZC-Eötvös
DESCRIPTION:2023. január 7. – én\, szombaton 16 órától a felnőtt női NB1 játékosai a kilencedik fordulóban a Debrecen ellen lépnek pályára\, hazai környezetben. \nSzeretettel várunk minden kedves szurkolót! \nHelyszín: Szent Benedek Gimnázium (Balatonfüred\, Hősök tere 1.) parkolási lehetőség és bejutás az Arácsi út felől. \nHajrá Füred!
URL:https://szbbra.hu/event/nb1-szbra-vs-dszc/
LOCATION:Szent Benedek-Balatonfüred RA\, Hősök tere 1.\, Balatonfüred\, Veszprém\, 8230\, Magyarország
CATEGORIES:NB1
ATTACH;FMTTYPE=image/jpeg:https://szbbra.hu/wp-content/uploads/2022/09/1663055108545.jpg
END:VEVENT
BEGIN:VEVENT
DTSTART;TZID=Europe/Paris:20221211T160000
DTEND;TZID=Europe/Paris:20221211T180000
DTSTAMP:20260420T115702
CREATED:20220928T091057Z
LAST-MODIFIED:20220928T091106Z
UID:8164-1670774400-1670781600@szbbra.hu
SUMMARY:NB1 SZBRA vs UTE U21
DESCRIPTION:2022. december 11. – én\, vasárnap 16 órától a felnőtt női NB1 játékosai a hetedik fordulóban az Újpest U21-es csapata ellen lépnek pályára\, hazai környezetben. \nSzeretettel várunk minden kedves szurkolót! \nHelyszín: Szent Benedek Gimnázium (Balatonfüred\, Hősök tere 1.) parkolási lehetőség és bejutás az Arácsi út felől. \nHajrá Füred!
URL:https://szbbra.hu/event/nb1-szbra-vs-ute-u21/
LOCATION:Szent Benedek-Balatonfüred RA\, Hősök tere 1.\, Balatonfüred\, Veszprém\, 8230\, Magyarország
CATEGORIES:NB1
ATTACH;FMTTYPE=image/jpeg:https://szbbra.hu/wp-content/uploads/2022/09/1663055108545.jpg
END:VEVENT
BEGIN:VEVENT
DTSTART;TZID=Europe/Paris:20221210T160000
DTEND;TZID=Europe/Paris:20221210T180000
DTSTAMP:20260420T115702
CREATED:20221108T123553Z
LAST-MODIFIED:20221108T123553Z
UID:9713-1670688000-1670695200@szbbra.hu
SUMMARY:Magyar Kupa Negyeddöntő 1/1
DESCRIPTION:2022. december 10. – én\, szombaton 16 órától a felnőtt női Extraliga játékosai a magyar kupa negyeddöntőjében a Kaposvári NRC csapata ellen lépnek pályára\, hazai környezetben. \nSzeretettel várunk minden kedves szurkolót! \nHelyszín: Balaton Szabadidő- és Konferenciaközpont \n\n\n\n\n\nHAJRÁ Füred!\n\n 
URL:https://szbbra.hu/event/magyar-kupa-negyeddonto-1-1/
LOCATION:Balaton Szabadidő- és Konferenciaközpont\, Horváth Mihály u 64.\, Balatonfüred\, Veszprém\, 8230\, Magyarország
CATEGORIES:Felnőtt
ATTACH;FMTTYPE=image/jpeg:https://szbbra.hu/wp-content/uploads/2022/11/kupa.jpg
END:VEVENT
BEGIN:VEVENT
DTSTART;TZID=Europe/Paris:20221204T160000
DTEND;TZID=Europe/Paris:20221204T180000
DTSTAMP:20260420T115702
CREATED:20220928T090851Z
LAST-MODIFIED:20220928T090851Z
UID:8158-1670169600-1670176800@szbbra.hu
SUMMARY:NB1 SZBRA vs Budaörs
DESCRIPTION:2022. december 4. – én\, vasárnap 16 órától a felnőtt női NB1 játékosai a hatodik fordulóban a Budaörs ellen lépnek pályára\, hazai környezetben. \nSzeretettel várunk minden kedves szurkolót! \nHelyszín: Szent Benedek Gimnázium (Balatonfüred\, Hősök tere 1.) parkolási lehetőség és bejutás az Arácsi út felől. \nHajrá Füred!
URL:https://szbbra.hu/event/nb1-szbra-vs-budaors/
LOCATION:Szent Benedek-Balatonfüred RA\, Hősök tere 1.\, Balatonfüred\, Veszprém\, 8230\, Magyarország
CATEGORIES:NB1
ATTACH;FMTTYPE=image/jpeg:https://szbbra.hu/wp-content/uploads/2022/09/1663055108545.jpg
END:VEVENT
BEGIN:VEVENT
DTSTART;TZID=Europe/Paris:20221123T173000
DTEND;TZID=Europe/Paris:20221123T193000
DTSTAMP:20260420T115702
CREATED:20220928T090629Z
LAST-MODIFIED:20220928T090644Z
UID:8152-1669224600-1669231800@szbbra.hu
SUMMARY:NB1 SZBRA vs DVTK
DESCRIPTION:2022. november 23. – án\, szerdán 17:30 -tól a felnőtt női NB1 játékosai az ötödik fordulóban a Diósgyőr ellen lépnek pályára\, hazai környezetben. \nSzeretettel várunk minden kedves szurkolót! \nHelyszín: Szent Benedek Gimnázium (Balatonfüred\, Hősök tere 1.) parkolási lehetőség és bejutás az Arácsi út felől. \nHajrá Füred!
URL:https://szbbra.hu/event/nb1-szbra-vs-dvtk/
LOCATION:Szent Benedek-Balatonfüred RA\, Hősök tere 1.\, Balatonfüred\, Veszprém\, 8230\, Magyarország
CATEGORIES:NB1
ATTACH;FMTTYPE=image/jpeg:https://szbbra.hu/wp-content/uploads/2022/09/1663055108545.jpg
END:VEVENT
BEGIN:VEVENT
DTSTART;VALUE=DATE:20221120
DTEND;VALUE=DATE:20221121
DTSTAMP:20260420T115702
CREATED:20221108T122229Z
LAST-MODIFIED:20221108T122229Z
UID:9701-1668902400-1668988799@szbbra.hu
SUMMARY:Szalayné Sebők Éva U17 OSB I. osztály 4. forduló
DESCRIPTION:2022. november 20. -án\, vasárnap U17 Piros csapatunk az alapszakasz 4. fordulójában a Gödöllő illetve a Nyíregyháza U17-es korosztályával csapnak össze hazai pályán. \nSzeretettel várunk minden kedves szurkolót! \n11:00 SZBRA Piros – Gödöllői RC \n13:00 Gödöllői RC – Nyíregyháza \n15:00 SZBRA Piros – Nyíregyháza \nHelyszín: Szent Benedek Gimnázium Sportcsarnoka (Balatonfüred\, Hősök tere 1.\, bejárat az Arácsi út felől) \nHajrá Füred!
URL:https://szbbra.hu/event/szalayne-sebok-eva-u17-osb-i-osztaly-4-fordulo/
LOCATION:Szent Benedek-Balatonfüred RA\, Hősök tere 1.\, Balatonfüred\, Veszprém\, 8230\, Magyarország
CATEGORIES:U17
ATTACH;FMTTYPE=image/jpeg:https://szbbra.hu/wp-content/uploads/2022/11/u17piros.jpg
END:VEVENT
BEGIN:VEVENT
DTSTART;TZID=Europe/Paris:20221118T180000
DTEND;TZID=Europe/Paris:20221118T200000
DTSTAMP:20260420T115702
CREATED:20220926T155247Z
LAST-MODIFIED:20220926T155251Z
UID:7926-1668794400-1668801600@szbbra.hu
SUMMARY:Extraliga SZBRA vs MÁV-Előre
DESCRIPTION:2022. november 18. – án\, pénteken 18 órától a felnőtt női Extraliga játékosai az ötödik fordulóban a MÁV-Előre Székesfehérvár ellenfeleként lépnek pályára\, hazai környezetben. \nSzeretettel várunk minden kedves szurkolót! \nHelyszín: Balaton Szabadidő -és Konferencia Központ (Balatonfüred\, Horváth Mihály utca 64.) \nHajrá Füred!
URL:https://szbbra.hu/event/extraliga-szbra-vs-mav-elore/
LOCATION:Balaton Szabadidő- és Konferenciaközpont\, Horváth Mihály u 64.\, Balatonfüred\, Veszprém\, 8230\, Magyarország
CATEGORIES:Felnőtt
ATTACH;FMTTYPE=image/jpeg:https://szbbra.hu/wp-content/uploads/2022/09/k_0007-e1664207545562.jpg
END:VEVENT
BEGIN:VEVENT
DTSTART;VALUE=DATE:20221112
DTEND;VALUE=DATE:20221113
DTSTAMP:20260420T115702
CREATED:20221107T171222Z
LAST-MODIFIED:20221107T171222Z
UID:9128-1668211200-1668297599@szbbra.hu
SUMMARY:Leány U15 II. o. Nyugat 4. forduló
DESCRIPTION:2022. november 12. -én\, szombaton U15 – ös csapatunk az alapszakasz 4. fordulójában az Vasas illetve a DKLSN U15-ös korosztályával csapnak össze hazai pályán\, a Szent Benedek Gimnázium Sportcsarnokában! \nSzeretettel várunk minden kedves szurkolót! \n11:00 SZBRA – Vasas SC U15 Fehér \n13:00 Vasas SC U15 Fehér – DKLSN 15’A \n15:00 DKLSN 15’A – SZBRA \nHelyszín: Szent Benedek Gimnázium (Balatonfüred\, Hősök tere 1. – bejárat az Arácsi út felől.) \n  \nHajrá Füred!
URL:https://szbbra.hu/event/leany-u15-ii-o-nyugat-4-fordulo/
LOCATION:Szent Benedek-Balatonfüred RA\, Hősök tere 1.\, Balatonfüred\, Veszprém\, 8230\, Magyarország
CATEGORIES:U15
ATTACH;FMTTYPE=image/jpeg:https://szbbra.hu/wp-content/uploads/2022/11/311433527_496622355668190_2176079366373594673_n.jpg
END:VEVENT
BEGIN:VEVENT
DTSTART;TZID=Europe/Paris:20221111T180000
DTEND;TZID=Europe/Paris:20221111T200000
DTSTAMP:20260420T115702
CREATED:20220926T154249Z
LAST-MODIFIED:20221112T120834Z
UID:7914-1668189600-1668196800@szbbra.hu
SUMMARY:Extraliga SZBRA vs KNRC
DESCRIPTION:2022. november 11. – én\, pénteken 18 órától a felnőtt női Extraliga játékosai a negyedik fordulóban a Kaposvár ellen lépnek pályára\, hazai környezetben. \nSzeretettel várunk minden kedves szurkolót! \nHelyszín: Balaton Szabadidő -és Konferencia Központ (Balatonfüred\, Horváth Mihály utca 64.) \nHajrá Füred!
URL:https://szbbra.hu/event/extraliga-szbra-vs-kaposvari-rnc/
LOCATION:Balaton Szabadidő- és Konferenciaközpont\, Horváth Mihály u 64.\, Balatonfüred\, Veszprém\, 8230\, Magyarország
CATEGORIES:Felnőtt
ATTACH;FMTTYPE=image/jpeg:https://szbbra.hu/wp-content/uploads/2022/09/k_0001.jpg
END:VEVENT
BEGIN:VEVENT
DTSTART;TZID=Europe/Paris:20221104T180000
DTEND;TZID=Europe/Paris:20221104T200000
DTSTAMP:20260420T115702
CREATED:20220926T153619Z
LAST-MODIFIED:20220926T155324Z
UID:7907-1667584800-1667592000@szbbra.hu
SUMMARY:Extraliga SZBRA vs MTK
DESCRIPTION:2022. november 4. – én\, pénteken 18 órától a felnőtt női Extraliga játékosai a harmadik fordulóban az MTK fiataljai ellen lép pályára\, hazai környezetben! Szeretettel várunk minden kedves szurkolót! \nHelyszín: Balaton Szabadidő -és Konferencia Központ (Balatonfüred\, Horváth Mihály utca 64.) \nHajrá Füred!
URL:https://szbbra.hu/event/extraliga-szbra-vs-mtk/
LOCATION:Balaton Szabadidő- és Konferenciaközpont\, Horváth Mihály u 64.\, Balatonfüred\, Veszprém\, 8230\, Magyarország
CATEGORIES:Felnőtt
ATTACH;FMTTYPE=image/jpeg:https://szbbra.hu/wp-content/uploads/2022/09/k_0004-e1664206568331.jpg
END:VEVENT
BEGIN:VEVENT
DTSTART;TZID=Europe/Paris:20221030T160000
DTEND;TZID=Europe/Paris:20221030T180000
DTSTAMP:20260420T115702
CREATED:20220928T085206Z
LAST-MODIFIED:20220928T090340Z
UID:8128-1667145600-1667152800@szbbra.hu
SUMMARY:NB1 SZBRA vs TFSE
DESCRIPTION:2022. október 30. – án\, vasárnap 16 órától a felnőtt női NB1 játékosai a második fordulóban a TFSE ellen lépnek pályára\, hazai környezetben. \nSzeretettel várunk minden kedves szurkolót! \nHelyszín: Szent Benedek Gimnázium (Balatonfüred\, Hősök tere 1.) parkolási lehetőség és bejutás az Arácsi út felől. \nHajrá Füred!
URL:https://szbbra.hu/event/nb1-szbra-vs-tfse/
LOCATION:Szent Benedek-Balatonfüred RA\, Hősök tere 1.\, Balatonfüred\, Veszprém\, 8230\, Magyarország
CATEGORIES:NB1
ATTACH;FMTTYPE=image/jpeg:https://szbbra.hu/wp-content/uploads/2022/09/1663055108545.jpg
END:VEVENT
BEGIN:VEVENT
DTSTART;TZID=Europe/Paris:20221022T080000
DTEND;TZID=Europe/Paris:20221022T170000
DTSTAMP:20260420T115702
CREATED:20220928T082725Z
LAST-MODIFIED:20220928T082732Z
UID:8110-1666425600-1666458000@szbbra.hu
SUMMARY:Leány U20 II. osztály Ny alapszakasz 3. forduló
DESCRIPTION:2022. október 22. -én\, szombaton U20 Kék csapatunk az alapszakasz 3. fordulójában a KASI illetve a DELTA Érd U20-as korosztályával csapnak össze hazai környezetben\, a Szent Benedek Gimnázium sportcsarnokban. \n11:00 SZBRA Kék – KASI U20 \n14:00 SZBRA Kék- DELTA Röplabda SE \nSzeretettel várunk minden kedves szurkolót a lelátóra! \nHelyszín: Szent Benedek Gimnázium (Balatonfüred\, Hősök Tere 1.) bejutás és parkolási lehetőség az Arácsi úti oldalról. \n  \nHajrá Füred!
URL:https://szbbra.hu/event/leany-u20-ii-osztaly-ny-alapszakasz-3-fordulo/
LOCATION:Szent Benedek-Balatonfüred RA\, Hősök tere 1.\, Balatonfüred\, Veszprém\, 8230\, Magyarország
CATEGORIES:U20
ATTACH;FMTTYPE=image/jpeg:https://szbbra.hu/wp-content/uploads/2022/09/img_8941.jpg
END:VEVENT
BEGIN:VEVENT
DTSTART;VALUE=DATE:20221008
DTEND;VALUE=DATE:20221009
DTSTAMP:20260420T115702
CREATED:20220928T082201Z
LAST-MODIFIED:20220928T082908Z
UID:8104-1665187200-1665273599@szbbra.hu
SUMMARY:Leány U20 II. osztály Ny alapszakasz 2. forduló
DESCRIPTION:2022. október 8. -án\, szombaton U20 Kék csapatunk az alapszakasz 2. fordulójában a Budaörs illetve a BVSC U20-as korosztályával csapnak össze hazai környezetben\, a Szent Benedek Gimnázium sportcsarnokban. \n11:00 SZBRA Kék – EMERICUS-BDSE \n14:00 SZBRA Kék- BVSC-Zugló Kék \nSzeretettel várunk minden kedves szurkolót a lelátóra! \nHelyszín: Szent Benedek Gimnázium (Balatonfüred\, Hősök Tere 1.) bejutás és parkolási lehetőség az Arácsi úti oldalról. \n  \nHajrá Füred!
URL:https://szbbra.hu/event/leany-u20-ii-osztaly-ny-alapszakasz-2-fordulo/
LOCATION:Szent Benedek-Balatonfüred RA\, Hősök tere 1.\, Balatonfüred\, Veszprém\, 8230\, Magyarország
CATEGORIES:U20
ATTACH;FMTTYPE=image/jpeg:https://szbbra.hu/wp-content/uploads/2022/09/img_8941.jpg
END:VEVENT
BEGIN:VEVENT
DTSTART;VALUE=DATE:20221001
DTEND;VALUE=DATE:20221003
DTSTAMP:20260420T115702
CREATED:20220919T124750Z
LAST-MODIFIED:20220926T120600Z
UID:7750-1664582400-1664755199@szbbra.hu
SUMMARY:Felnőtt felkészülési torna
DESCRIPTION:2022. október 1-2 felkészülési tornát rendezünk\, ahol a Vasas SC\, a Kaposvár\, és a MÁV Előre csapatát látjuk vendégül. \nSorsolás: \nOktóber 1.: \n16:00 Szent Benedek RA – MÁV Előre \n18:00 Vasas SC – KNRC \nOktóber 2.: \n14:00 Mérkőzés a 3. helyért \n16:30 Mérkőzés az 1. helyért \n  \nSzeretettel várunk minden kedves szurkolót! Hajrá Füred!
URL:https://szbbra.hu/event/felnott-felkeszulesi-torna/
CATEGORIES:Felnőtt
ATTACH;FMTTYPE=image/jpeg:https://szbbra.hu/wp-content/uploads/2022/05/1651680865486.jpg
END:VEVENT
BEGIN:VEVENT
DTSTART;VALUE=DATE:20220918
DTEND;VALUE=DATE:20220919
DTSTAMP:20260420T115702
CREATED:20220913T072017Z
LAST-MODIFIED:20220913T093353Z
UID:7693-1663459200-1663545599@szbbra.hu
SUMMARY:U17/U20 Felkészülési Torna
DESCRIPTION:A hétvégén\, vasárnap U17/U20 felkészülési tornát rendezünk a Tornacsarnokban! Szeretettel várunk minden kedves érdeklődőt! \nA sorsolás: \n\n9:00 DELTA U20 – SZBRA Piros U20\n11:00 Gödöllő U20 – SZBRA Piros U17\n13:00 Budaörs U17 – SZBRA Sárga U17\n15:00 DELTA U20 – SZBRA Kék U20\n16:30 Gödöllő U20 – SZBRA Piros U20\n18:00 Budaörs U17 – SZBRA Kék U17\n\nHajrá Szent Benedek!
URL:https://szbbra.hu/event/u17-u20-felkeszulesi-torna/
LOCATION:Szent Benedek-Balatonfüred RA\, Hősök tere 1.\, Balatonfüred\, Veszprém\, 8230\, Magyarország
CATEGORIES:U17,U20
ATTACH;FMTTYPE=image/jpeg:https://szbbra.hu/wp-content/uploads/2022/09/u17-u20-felkeszules.jpg
END:VEVENT
BEGIN:VEVENT
DTSTART;VALUE=DATE:20220917
DTEND;VALUE=DATE:20220918
DTSTAMP:20260420T115702
CREATED:20220913T071245Z
LAST-MODIFIED:20220913T090045Z
UID:7687-1663372800-1663459199@szbbra.hu
SUMMARY:U20 Felkészülési Torna
DESCRIPTION:A hétvégén\, szombaton U20 felkészülési tornát rendezünk a Balaton Szabadidőközpontban! Szeretettel várunk minden kedves érdeklődőt! \nA sorsolás: \n\n11:00 ÉDRA Tata U20 – SZBRA Kék U20\n13:00 SZBRA Kék U20 – SZBRA Piros U20\n15:00 ÉDRA Tata U20 – SZBRA Piros U17\n\nHajrá Szent Benedek!
URL:https://szbbra.hu/event/u20-felkeszulesi-torna/
LOCATION:Balaton Szabadidő- és Konferenciaközpont\, Horváth Mihály u 64.\, Balatonfüred\, Veszprém\, 8230\, Magyarország
CATEGORIES:U17,U20
ATTACH;FMTTYPE=image/jpeg:https://szbbra.hu/wp-content/uploads/2022/09/u20-felkeszules.jpg
END:VEVENT
END:VCALENDAR