BEGIN:VCALENDAR
VERSION:2.0
PRODID:-//Balatonfüred Röplabda Akadémia - ECPv5.14.0.4//NONSGML v1.0//EN
CALSCALE:GREGORIAN
METHOD:PUBLISH
X-WR-CALNAME:Balatonfüred Röplabda Akadémia
X-ORIGINAL-URL:https://szbbra.hu
X-WR-CALDESC:Events for Balatonfüred Röplabda Akadémia
REFRESH-INTERVAL;VALUE=DURATION:PT1H
X-Robots-Tag:noindex
X-PUBLISHED-TTL:PT1H
BEGIN:VTIMEZONE
TZID:Europe/Paris
BEGIN:DAYLIGHT
TZOFFSETFROM:+0100
TZOFFSETTO:+0200
TZNAME:CEST
DTSTART:20180325T010000
END:DAYLIGHT
BEGIN:STANDARD
TZOFFSETFROM:+0200
TZOFFSETTO:+0100
TZNAME:CET
DTSTART:20181028T010000
END:STANDARD
BEGIN:DAYLIGHT
TZOFFSETFROM:+0100
TZOFFSETTO:+0200
TZNAME:CEST
DTSTART:20190331T010000
END:DAYLIGHT
BEGIN:STANDARD
TZOFFSETFROM:+0200
TZOFFSETTO:+0100
TZNAME:CET
DTSTART:20191027T010000
END:STANDARD
BEGIN:DAYLIGHT
TZOFFSETFROM:+0100
TZOFFSETTO:+0200
TZNAME:CEST
DTSTART:20200329T010000
END:DAYLIGHT
BEGIN:STANDARD
TZOFFSETFROM:+0200
TZOFFSETTO:+0100
TZNAME:CET
DTSTART:20201025T010000
END:STANDARD
BEGIN:DAYLIGHT
TZOFFSETFROM:+0100
TZOFFSETTO:+0200
TZNAME:CEST
DTSTART:20210328T010000
END:DAYLIGHT
BEGIN:STANDARD
TZOFFSETFROM:+0200
TZOFFSETTO:+0100
TZNAME:CET
DTSTART:20211031T010000
END:STANDARD
BEGIN:DAYLIGHT
TZOFFSETFROM:+0100
TZOFFSETTO:+0200
TZNAME:CEST
DTSTART:20220327T010000
END:DAYLIGHT
BEGIN:STANDARD
TZOFFSETFROM:+0200
TZOFFSETTO:+0100
TZNAME:CET
DTSTART:20221030T010000
END:STANDARD
BEGIN:DAYLIGHT
TZOFFSETFROM:+0100
TZOFFSETTO:+0200
TZNAME:CEST
DTSTART:20230326T010000
END:DAYLIGHT
BEGIN:STANDARD
TZOFFSETFROM:+0200
TZOFFSETTO:+0100
TZNAME:CET
DTSTART:20231029T010000
END:STANDARD
BEGIN:DAYLIGHT
TZOFFSETFROM:+0100
TZOFFSETTO:+0200
TZNAME:CEST
DTSTART:20240331T010000
END:DAYLIGHT
BEGIN:STANDARD
TZOFFSETFROM:+0200
TZOFFSETTO:+0100
TZNAME:CET
DTSTART:20241027T010000
END:STANDARD
BEGIN:DAYLIGHT
TZOFFSETFROM:+0100
TZOFFSETTO:+0200
TZNAME:CEST
DTSTART:20250330T010000
END:DAYLIGHT
BEGIN:STANDARD
TZOFFSETFROM:+0200
TZOFFSETTO:+0100
TZNAME:CET
DTSTART:20251026T010000
END:STANDARD
TZID:UTC
BEGIN:STANDARD
TZOFFSETFROM:+0000
TZOFFSETTO:+0000
TZNAME:UTC
DTSTART:20180101T000000
END:STANDARD
END:VTIMEZONE
BEGIN:VEVENT
DTSTART;VALUE=DATE:20250216
DTEND;VALUE=DATE:20250217
DTSTAMP:20260420T134325
CREATED:20250207T095310Z
LAST-MODIFIED:20250207T095310Z
UID:21519-1739664000-1739750399@szbbra.hu
SUMMARY:U15 II. osztály nyugat középszakasz
DESCRIPTION:11:00-VESC-Fehér-SZBRA \n13:00-SZBRA-MÁV Előre kék \nhelyszín:Egyetemi Tornacsarnok\, Veszprém
URL:https://szbbra.hu/event/u15-ii-osztaly-nyugat-kozepszakasz-8/
CATEGORIES:U15
ATTACH;FMTTYPE=image/jpeg:https://szbbra.hu/wp-content/uploads/2025/01/labdakep-sarga.jpg
END:VEVENT
BEGIN:VEVENT
DTSTART;VALUE=DATE:20241006
DTEND;VALUE=DATE:20241007
DTSTAMP:20260420T134325
CREATED:20240925T085150Z
LAST-MODIFIED:20240925T085150Z
UID:20387-1728172800-1728259199@szbbra.hu
SUMMARY:U15 II.osztály nyugat alapszakasz
DESCRIPTION:11:00-KASI U15 kék-SZBRA \n13:00-SZBRA-TRSE \nhelyszín: Táncsics Mihály Gimnázium Centerpálya Kaposvár
URL:https://szbbra.hu/event/u15-ii-osztaly-nyugat-alapszakasz-2/
CATEGORIES:U15
ATTACH;FMTTYPE=image/jpeg:https://szbbra.hu/wp-content/uploads/2024/03/img_20231003_144656.jpg
END:VEVENT
BEGIN:VEVENT
DTSTART;VALUE=DATE:20240420
DTEND;VALUE=DATE:20240421
DTSTAMP:20260420T134325
CREATED:20240415T070455Z
LAST-MODIFIED:20240415T070455Z
UID:19618-1713571200-1713657599@szbbra.hu
SUMMARY:U15 II. osztály nyugat középszakasz
DESCRIPTION:11:00-SZOSI B-SZBRA \n13:00-SZBRA-MÁV Előre Kék \nhelyszín:Horvát Oktatási Központ\, Szombathely
URL:https://szbbra.hu/event/u15-ii-osztaly-nyugat-kozepszakasz-5/
CATEGORIES:U15
ATTACH;FMTTYPE=image/jpeg:https://szbbra.hu/wp-content/uploads/2024/03/img_20231003_144656.jpg
END:VEVENT
BEGIN:VEVENT
DTSTART;VALUE=DATE:20240316
DTEND;VALUE=DATE:20240317
DTSTAMP:20260420T134325
CREATED:20240306T080219Z
LAST-MODIFIED:20240306T080420Z
UID:19220-1710547200-1710633599@szbbra.hu
SUMMARY:U15 II. osztály nyugat középszakasz
DESCRIPTION:13:00-VESC Fehér-SZBRA \n15:00-SZBRA-TRSE Kék \nhelyszín: Pólya György Általános Iskola\, Tatabánya
URL:https://szbbra.hu/event/dr-kotsis-attilane-u15-ii-osztaly-nyugat-kozepszakasz/
CATEGORIES:U15
ATTACH;FMTTYPE=image/jpeg:https://szbbra.hu/wp-content/uploads/2024/02/img_20231003_144656.jpg
END:VEVENT
BEGIN:VEVENT
DTSTART;VALUE=DATE:20240217
DTEND;VALUE=DATE:20240218
DTSTAMP:20260420T134325
CREATED:20240125T102014Z
LAST-MODIFIED:20240125T102014Z
UID:18737-1708128000-1708214399@szbbra.hu
SUMMARY:U15 II.osztály nyugat középszakasz
DESCRIPTION:11:00-SZBRA-Budaörsi DSE \n15:00-KASI U15 sárga-SZBRA \nhelyszín: Szent Benedek Gimnázium\, Balatonfüred
URL:https://szbbra.hu/event/u15-ii-osztaly-nyugat-kozepszakasz-2/
CATEGORIES:U15
ATTACH;FMTTYPE=image/jpeg:https://szbbra.hu/wp-content/uploads/2024/01/img_20231003_144656-1.jpg
END:VEVENT
BEGIN:VEVENT
DTSTART;VALUE=DATE:20240203
DTEND;VALUE=DATE:20240204
DTSTAMP:20260420T134325
CREATED:20240115T111759Z
LAST-MODIFIED:20240115T111759Z
UID:18608-1706918400-1707004799@szbbra.hu
SUMMARY:U15 II.osztály NYUGAT középszakasz
DESCRIPTION:11:00-SZBRA-MTK Budapest \n15:00-KASI U15 sárga- SZBRA \nhelyszín:Szent Benedek Gimnázium\, Balatonfüred
URL:https://szbbra.hu/event/u15-ii-osztaly-nyugat-kozepszakasz/
CATEGORIES:U15
ATTACH;FMTTYPE=image/jpeg:https://szbbra.hu/wp-content/uploads/2024/01/img_20231003_144656.jpg
END:VEVENT
BEGIN:VEVENT
DTSTART;TZID=Europe/Paris:20231126T100000
DTEND;TZID=Europe/Paris:20231126T100000
DTSTAMP:20260420T134325
CREATED:20231123T110649Z
LAST-MODIFIED:20231123T110649Z
UID:17492-1700992800-1700992800@szbbra.hu
SUMMARY:U15 II.osztály NYUGAT alapszakasz
DESCRIPTION:10:00-SZBRA-VESC Fehér\n13:00-MÁV Előre Kék-SZBRA \nhelyszín:Szent Benedek Gimnázium\, Balatonfüred
URL:https://szbbra.hu/event/u15-ii-osztaly-nyugat-alapszakasz/
LOCATION:balatonfüred
CATEGORIES:U15
ATTACH;FMTTYPE=image/jpeg:https://szbbra.hu/wp-content/uploads/2023/11/img_20231003_144656.jpg
END:VEVENT
BEGIN:VEVENT
DTSTART;VALUE=DATE:20230527
DTEND;VALUE=DATE:20230528
DTSTAMP:20260420T134325
CREATED:20230522T085659Z
LAST-MODIFIED:20230522T085659Z
UID:14917-1685145600-1685231999@szbbra.hu
SUMMARY:U15 II. osztály Nyugat helyosztó 5-9.hely
DESCRIPTION:Hazai pályán fejezi be a bajnokságot szombaton U15-ös csapatunk. Együttesünk az 5-9.helyért játszik\, első meccsünk 13 órakor kezdődik a VASAS ellen. \n13:00-SZBRA-VASAS SC U15 FEHÉR
URL:https://szbbra.hu/event/u15-ii-osztaly-nyugat-helyoszto-5-9-hely/
LOCATION:balatonfüred
CATEGORIES:U15
ATTACH;FMTTYPE=image/jpeg:https://szbbra.hu/wp-content/uploads/2022/11/u15-1.jpg
END:VEVENT
BEGIN:VEVENT
DTSTART;VALUE=DATE:20230506
DTEND;VALUE=DATE:20230507
DTSTAMP:20260420T134325
CREATED:20230417T080433Z
LAST-MODIFIED:20230503T080554Z
UID:13896-1683331200-1683417599@szbbra.hu
SUMMARY:LEÁNY U15 II.OSZTÁLY 12. FORDULÓ
DESCRIPTION:2023. május 6-án\, szombaton U15-ös csapatunk a középszakasz következő fordulójában a VASAS és a DKLSN együttesével csap össze hazai pályán. \n11:00 SZBRA-VASAS SC U15 Fehér \n15:00 DKLSN 15 A-SZBRA \nHelyszín: Szent Benedek Gimnázium\, Balatonfüred \nHajrá Füred! \n 
URL:https://szbbra.hu/event/leany-u15-ii-osztaly-12-fordulo/
LOCATION:balatonfüred
CATEGORIES:U15
ATTACH;FMTTYPE=image/jpeg:https://szbbra.hu/wp-content/uploads/2022/11/u15-1.jpg
END:VEVENT
BEGIN:VEVENT
DTSTART;VALUE=DATE:20230429
DTEND;VALUE=DATE:20230430
DTSTAMP:20260420T134325
CREATED:20230328T080636Z
LAST-MODIFIED:20230328T080636Z
UID:13305-1682726400-1682812799@szbbra.hu
SUMMARY:LEÁNY U15 II.osztály 11. forduló
DESCRIPTION:2023. április 29-én\, szombaton U15-ös csapatunk a középszakasz következő fordulójában a VESC illetve a KSE együttesével csap össze Veszprémben. \n11:00 VESC Fehér-SZBRA \n13:00 SZBRA – KSE U15 Kék \nHelyszín: Egyetemi Sportcsarnok \nHajrá Füred!
URL:https://szbbra.hu/event/leany-u15-ii-osztaly-11-fordulo/
LOCATION:Veszprém
CATEGORIES:U15
ATTACH;FMTTYPE=image/jpeg:https://szbbra.hu/wp-content/uploads/2022/11/u15-1.jpg
END:VEVENT
BEGIN:VEVENT
DTSTART;VALUE=DATE:20230416
DTEND;VALUE=DATE:20230417
DTSTAMP:20260420T134325
CREATED:20230328T065422Z
LAST-MODIFIED:20230328T071257Z
UID:13245-1681603200-1681689599@szbbra.hu
SUMMARY:Leány U15 II. osztály 10. forduló
DESCRIPTION:2023. április 16. -án\, vasárnap U15-ös csapatunk a középszakasz következő fordulójában a KASI illetve a SZOSI együttesével csap össze Kaposváron. \n11:00 KASI U15 sárga-SZBRA \n13:00 SZBRA – SZOSI B \nHelyszín: Kaposvár Aréna\, Kaposvár \nHajrá Füred!
URL:https://szbbra.hu/event/leany-u15-ii-osztaly-nyugat-kozepszakasz/
LOCATION:Kaposvár
CATEGORIES:U15
ATTACH;FMTTYPE=image/jpeg:https://szbbra.hu/wp-content/uploads/2023/03/img_20230325_155133_949-1.jpg
END:VEVENT
BEGIN:VEVENT
DTSTART;VALUE=DATE:20221112
DTEND;VALUE=DATE:20221113
DTSTAMP:20260420T134325
CREATED:20221107T171222Z
LAST-MODIFIED:20221107T171222Z
UID:9128-1668211200-1668297599@szbbra.hu
SUMMARY:Leány U15 II. o. Nyugat 4. forduló
DESCRIPTION:2022. november 12. -én\, szombaton U15 – ös csapatunk az alapszakasz 4. fordulójában az Vasas illetve a DKLSN U15-ös korosztályával csapnak össze hazai pályán\, a Szent Benedek Gimnázium Sportcsarnokában! \nSzeretettel várunk minden kedves szurkolót! \n11:00 SZBRA – Vasas SC U15 Fehér \n13:00 Vasas SC U15 Fehér – DKLSN 15’A \n15:00 DKLSN 15’A – SZBRA \nHelyszín: Szent Benedek Gimnázium (Balatonfüred\, Hősök tere 1. – bejárat az Arácsi út felől.) \n  \nHajrá Füred!
URL:https://szbbra.hu/event/leany-u15-ii-o-nyugat-4-fordulo/
LOCATION:Szent Benedek-Balatonfüred RA\, Hősök tere 1.\, Balatonfüred\, Veszprém\, 8230\, Magyarország
CATEGORIES:U15
ATTACH;FMTTYPE=image/jpeg:https://szbbra.hu/wp-content/uploads/2022/11/311433527_496622355668190_2176079366373594673_n.jpg
END:VEVENT
BEGIN:VEVENT
DTSTART;VALUE=DATE:20220917
DTEND;VALUE=DATE:20220918
DTSTAMP:20260420T134325
CREATED:20220912T120509Z
LAST-MODIFIED:20220913T090956Z
UID:7462-1663372800-1663459199@szbbra.hu
SUMMARY:U15 Felkészülési Torna
DESCRIPTION:A hétvégén\, szombaton U15 felkészülési tornát rendezünk a Tornacsarnokban! Szeretettel várunk minden kedves érdeklődőt! \nA sorsolás: \n\n10:00 SZBRA-Kaposvár\n12:00 Szombathely-Kaposvár\n14:00 SZBRA-Szombathely\n16:00 SZBRA U17 II. – Szombathely U15 I.\n\nHajrá Szent Benedek! \n\n\n\n\n\n\n\n\n\n\n\n\n\n\n\n\n\n\n\n\n\n\n\n\n\n\n\n\n\n\n\n\n\n 
URL:https://szbbra.hu/event/u15-felkeszulesi-torna/
LOCATION:Szent Benedek-Balatonfüred RA\, Hősök tere 1.\, Balatonfüred\, Veszprém\, 8230\, Magyarország
CATEGORIES:U15
ATTACH;FMTTYPE=image/jpeg:https://szbbra.hu/wp-content/uploads/2022/09/u15-felkeszules.jpg
END:VEVENT
BEGIN:VEVENT
DTSTART;VALUE=DATE:20180520
DTEND;VALUE=DATE:20180521
DTSTAMP:20260420T134325
CREATED:20180525T083459Z
LAST-MODIFIED:20180525T085109Z
UID:1729-1526774400-1526860799@szbbra.hu
SUMMARY:OGYB helyosztó - Hajdúböszörmény
DESCRIPTION:
URL:https://szbbra.hu/event/ogyb-helyoszto-hajduboszormeny/
LOCATION:Hajdúböszörmény
CATEGORIES:U15
ATTACH;FMTTYPE=image/jpeg:https://szbbra.hu/wp-content/uploads/2018/02/amuz_7400-1.jpg
END:VEVENT
BEGIN:VEVENT
DTSTART;TZID=Europe/Paris:20180414T120000
DTEND;TZID=Europe/Paris:20180414T170000
DTSTAMP:20260420T134325
CREATED:20180404T121311Z
LAST-MODIFIED:20180404T121312Z
UID:1547-1523707200-1523725200@szbbra.hu
SUMMARY:OGYB - Balatonfüred
DESCRIPTION:Az OGYB március 18-i balatonfüredi fordulója elmaradt\, mivel a sülysápi és egri csapatok a hirtelen havazás miatt nem tudták vállalni az utazást. \nEz a torna kerül most megrendezésre: \n12.00: Sülysáp – Szent Benedek-Balatonfüred \n13.30: EVSI – Sülysáp \n15.00: Szent Benedek-Balatonfüred – EVSI\n\nVárunk mindenkit szeretettel! Hajrá Füred! Hajrá Szent Benedek!
URL:https://szbbra.hu/event/ogyb-balatonfured/
LOCATION:Szent Benedek-Balatonfüred RA\, Hősök tere 1.\, Balatonfüred\, Veszprém\, 8230\, Magyarország
CATEGORIES:U15
ATTACH;FMTTYPE=image/jpeg:https://szbbra.hu/wp-content/uploads/2018/03/2018-03-05_10-37-47_637.jpg
END:VEVENT
BEGIN:VEVENT
DTSTART;TZID=Europe/Paris:20180406T173000
DTEND;TZID=Europe/Paris:20180406T200000
DTSTAMP:20260420T134325
CREATED:20180403T174714Z
LAST-MODIFIED:20180403T175430Z
UID:1538-1523035800-1523044800@szbbra.hu
SUMMARY:Nyílt edzés!
DESCRIPTION:Nyílt edzés a Szent Benedekben! \nBajnok csapatunk nyílt edzést tart pénteken\, ahová várunk minden érdeklődőt:\n– aki meg szeretné ismerni a csapatot\n– röpizni szeretne\, de még nem ismeri a sportágat \n\nKicsiknek és nagyoknak egyaránt ajánljuk! \nAz edzés után lehetőség nyílik egy kis kötetlen játékra a felnőtt bajnok csapattal és a serdülő korú játékosokkal\, emellett beszélgethetsz a játékosokkal\, edzőkkel\, vezetőkkel is! \nHozd el a szüleidet is\, hiszen hamarosan indul a Szent Benedek Szülői Röpi is! Részletekről a helyszínen! \nTalálkozunk pénteken! 🙂
URL:https://szbbra.hu/event/nyilt-edzes/
LOCATION:Szent Benedek-Balatonfüred RA\, Hősök tere 1.\, Balatonfüred\, Veszprém\, 8230\, Magyarország
CATEGORIES:Felnőtt,U11 - Manó,U12 - Mini,U13,U15,U17
ATTACH;FMTTYPE=image/jpeg:https://szbbra.hu/wp-content/uploads/2018/03/muz_3348.jpg
END:VEVENT
BEGIN:VEVENT
DTSTART;TZID=Europe/Paris:20180331T150000
DTEND;TZID=Europe/Paris:20180331T200000
DTSTAMP:20260420T134325
CREATED:20180306T115359Z
LAST-MODIFIED:20180306T115359Z
UID:1308-1522508400-1522526400@szbbra.hu
SUMMARY:OGYB - Kóka
DESCRIPTION:A 2017/2018. évi dr. Kotsis Attiláné U15 Országos Gyermek Bajnokság középszakasz C-10 csoport 2. tornája: \n15.00: EVSI – Sülysáp\n16.30: Szent Benedek-Balatonfüred – EVSI\n18.00: Sülysáp – Szent Benedek-Balatonfüred
URL:https://szbbra.hu/event/ogyb-koka/
LOCATION:Kóka\, Kossuth Lajos u. 2.\, Kossuth Lajos u. 2.\, Kóka\, Magyarország
CATEGORIES:U15
ATTACH;FMTTYPE=image/jpeg:https://szbbra.hu/wp-content/uploads/2018/02/amuz_7331.jpg
END:VEVENT
BEGIN:VEVENT
DTSTART;TZID=Europe/Paris:20180318T150000
DTEND;TZID=Europe/Paris:20180318T200000
DTSTAMP:20260420T134325
CREATED:20180306T114844Z
LAST-MODIFIED:20180306T115537Z
UID:1305-1521385200-1521403200@szbbra.hu
SUMMARY:OGYB - Balatonfüred
DESCRIPTION:A 2017/2018. évi dr. Kotsis Attiláné U15 Országos Gyermek Bajnokság középszakasz C-10 csoport 1. tornája: \n15.00: Sülysáp – Szent Benedek-Balatonfüred\n16.30: EVSI – Sülysáp\n18.00: Szent Benedek-Balatonfüred – EVSI
URL:https://szbbra.hu/event/1305/
LOCATION:Szent Benedek-Balatonfüred RA\, Hősök tere 1.\, Balatonfüred\, Veszprém\, 8230\, Magyarország
CATEGORIES:U15
ATTACH;FMTTYPE=image/jpeg:https://szbbra.hu/wp-content/uploads/2018/02/muz_8413.jpg
END:VEVENT
BEGIN:VEVENT
DTSTART;VALUE=DATE:20180217
DTEND;VALUE=DATE:20180218
DTSTAMP:20260420T134325
CREATED:20180207T153021Z
LAST-MODIFIED:20180226T123509Z
UID:387-1518825600-1518911999@szbbra.hu
SUMMARY:OGYB - Veszprém
DESCRIPTION:Országos Gyerek Bajnokság – Kvalifikációs torna\, Veszprém
URL:https://szbbra.hu/event/ogyb-veszprem/
LOCATION:Veszprém
CATEGORIES:U15
ATTACH;FMTTYPE=image/png:https://szbbra.hu/wp-content/uploads/2018/02/logo-1.png
END:VEVENT
BEGIN:VEVENT
DTSTART;VALUE=DATE:20180211
DTEND;VALUE=DATE:20180212
DTSTAMP:20260420T134325
CREATED:20180207T152719Z
LAST-MODIFIED:20180207T152719Z
UID:384-1518307200-1518393599@szbbra.hu
SUMMARY:OSB - Székesfehérvár
DESCRIPTION:Országos Serdülő Bajnokság – Kvalifikációs torna\, Székesfehérvár
URL:https://szbbra.hu/event/osb-szekesfehervar/
LOCATION:Székesfehérvár\, Székesfehérvár
CATEGORIES:U15
ATTACH;FMTTYPE=image/png:https://szbbra.hu/wp-content/uploads/2018/02/logo-1.png
END:VEVENT
BEGIN:VEVENT
DTSTART;VALUE=DATE:20180210
DTEND;VALUE=DATE:20180211
DTSTAMP:20260420T134325
CREATED:20180203T131726Z
LAST-MODIFIED:20180207T151144Z
UID:231-1518220800-1518307199@szbbra.hu
SUMMARY:OMB - Győr
DESCRIPTION:Őryné Mérő Nóra Országos Mini Bajnokság – Kvalifikációs torna \n  \n 
URL:https://szbbra.hu/event/osb-fured/
LOCATION:Győr\, Magyarország
CATEGORIES:U15
ATTACH;FMTTYPE=image/png:https://szbbra.hu/wp-content/uploads/2018/02/logo-1.png
END:VEVENT
END:VCALENDAR